BEGIN:VCALENDAR
VERSION:2.0
PRODID:-//Peda.net/Peda.net Calendar Module//
CALSCALE:GREGORIAN
X-WR-CALNAME:Syyskuu1
X-WR-CALDESC:https://peda.net/id/40a581687bf
X-WR-RELCALID:40a58168-7bf9-11e6-924a-eaecf9f45fbc@peda.net
X-WR-TIMEZONE:UTC
BEGIN:VEVENT
UID:f204d2aa-7bfa-11e6-8fb6-d102fbf45fbc@peda.net
DTSTAMP:20260421T110549Z
CREATED:20160916T104721Z
DTSTART;TZID=Europe/Helsinki:20160921T143000
SUMMARY:Antin 7v synttärit
DESCRIPTION:
URL;VALUE=URI:https://peda.net/p/o_eetu.karhunen/teht%C3%A4v%C3%A4t/syyskuu
 1/antin-7v-syntt%C3%A4rit
SEQUENCE:0
END:VEVENT
BEGIN:VEVENT
UID:26c029d6-7bfb-11e6-8ec5-d102fbf45fbc@peda.net
DTSTAMP:20260421T110549Z
CREATED:20160916T104849Z
DTSTART;TZID=Europe/Helsinki:20160920T120000
SUMMARY:Englannin koe
DESCRIPTION:
URL;VALUE=URI:https://peda.net/p/o_eetu.karhunen/teht%C3%A4v%C3%A4t/syyskuu
 1/englannin-koe
SEQUENCE:0
END:VEVENT
BEGIN:VEVENT
UID:57bb303a-7bfb-11e6-b20d-4d04fbf45fbc@peda.net
DTSTAMP:20260421T110549Z
CREATED:20160916T105012Z
DTSTART;TZID=Europe/Helsinki:20160925T130000
SUMMARY:Fysiikan koe
DESCRIPTION:
URL;VALUE=URI:https://peda.net/p/o_eetu.karhunen/teht%C3%A4v%C3%A4t/syyskuu
 1/fysiikan-koe
SEQUENCE:0
END:VEVENT
BEGIN:VEVENT
UID:0ccce1fa-7bfa-11e6-879c-8b03fbf45fbc@peda.net
DTSTAMP:20260421T110549Z
CREATED:20160916T104056Z
DTSTART;TZID=Europe/Helsinki:20160923T161500
SUMMARY:jalkapallo harkat
DESCRIPTION:
URL;VALUE=URI:https://peda.net/p/o_eetu.karhunen/teht%C3%A4v%C3%A4t/syyskuu
 1/jalkapallo-harkat3
SEQUENCE:0
END:VEVENT
BEGIN:VEVENT
UID:2f6fe676-7bfa-11e6-9063-d102fbf45fbc@peda.net
DTSTAMP:20260421T110549Z
CREATED:20160916T104154Z
DTSTART;TZID=Europe/Helsinki:20160926T174500
SUMMARY:jalkapallo harkat
DESCRIPTION:
URL;VALUE=URI:https://peda.net/p/o_eetu.karhunen/teht%C3%A4v%C3%A4t/syyskuu
 1/jalkapallo-harkat2f
SEQUENCE:0
END:VEVENT
BEGIN:VEVENT
UID:57d32f10-7bfa-11e6-8548-eaecf9f45fbc@peda.net
DTSTAMP:20260421T110549Z
CREATED:20160916T104302Z
DTSTART;TZID=Europe/Helsinki:20160928T174500
SUMMARY:jalkapallo harkat
DESCRIPTION:
URL;VALUE=URI:https://peda.net/p/o_eetu.karhunen/teht%C3%A4v%C3%A4t/syyskuu
 1/jalkapallo-harkat5
SEQUENCE:0
END:VEVENT
BEGIN:VEVENT
UID:b9027fda-7bf9-11e6-9c0b-eaecf9f45fbc@peda.net
DTSTAMP:20260421T110549Z
CREATED:20160916T103836Z
DTSTART;TZID=Europe/Helsinki:20160919T174500
SUMMARY:jalkapallo harkat
DESCRIPTION:
URL;VALUE=URI:https://peda.net/p/o_eetu.karhunen/teht%C3%A4v%C3%A4t/syyskuu
 1/jalkapallo-harkat
SEQUENCE:0
END:VEVENT
BEGIN:VEVENT
UID:d2e2425e-7bfa-11e6-ba2d-d102fbf45fbc@peda.net
DTSTAMP:20260421T110549Z
CREATED:20160916T104629Z
DTSTART;TZID=Europe/Helsinki:20160930T174500
SUMMARY:jalkapallo harkat
DESCRIPTION:
URL;VALUE=URI:https://peda.net/p/o_eetu.karhunen/teht%C3%A4v%C3%A4t/syyskuu
 1/jalkapallo-harkatd
SEQUENCE:0
END:VEVENT
BEGIN:VEVENT
UID:e7cad07e-7bf9-11e6-af58-d102fbf45fbc@peda.net
DTSTAMP:20260421T110549Z
CREATED:20160916T103954Z
DTSTART;TZID=Europe/Helsinki:20160921T174500
SUMMARY:jalkapallo harkat
DESCRIPTION:
URL;VALUE=URI:https://peda.net/p/o_eetu.karhunen/teht%C3%A4v%C3%A4t/syyskuu
 1/jalkapallo-harkat2
SEQUENCE:0
END:VEVENT
BEGIN:VEVENT
UID:89e6203a-7bf9-11e6-85e7-d102fbf45fbc@peda.net
DTSTAMP:20260421T110549Z
CREATED:20160916T103717Z
DTSTART;TZID=Europe/Helsinki:20160916T150000
SUMMARY:koe tvt
DESCRIPTION:
URL;VALUE=URI:https://peda.net/p/o_eetu.karhunen/teht%C3%A4v%C3%A4t/syyskuu
 1/koe-tvt
SEQUENCE:0
END:VEVENT
BEGIN:VEVENT
UID:7834c010-7bfb-11e6-8f7a-8b03fbf45fbc@peda.net
DTSTAMP:20260421T110549Z
CREATED:20160916T105106Z
DTSTART;TZID=Europe/Helsinki:20160917T180000
SUMMARY:lenkillä
DESCRIPTION:
URL;VALUE=URI:https://peda.net/p/o_eetu.karhunen/teht%C3%A4v%C3%A4t/syyskuu
 1/lenkill%C3%A4
SEQUENCE:0
END:VEVENT
BEGIN:VEVENT
UID:0e23b9f6-7bfb-11e6-a75d-eaecf9f45fbc@peda.net
DTSTAMP:20260421T110549Z
CREATED:20160916T104808Z
DTSTART;TZID=Europe/Helsinki:20160918T110000
SUMMARY:Maantiedon koe
DESCRIPTION:
URL;VALUE=URI:https://peda.net/p/o_eetu.karhunen/teht%C3%A4v%C3%A4t/syyskuu
 1/maantiedon-koe
SEQUENCE:0
END:VEVENT
BEGIN:VEVENT
UID:9651f748-7bfb-11e6-a118-4d04fbf45fbc@peda.net
DTSTAMP:20260421T110549Z
CREATED:20160916T105157Z
DTSTART;TZID=Europe/Helsinki:20160921T130000
SUMMARY:uskonnon esitelmä
DESCRIPTION:
URL;VALUE=URI:https://peda.net/p/o_eetu.karhunen/teht%C3%A4v%C3%A4t/syyskuu
 1/uskonnon-esitelm%C3%A4
SEQUENCE:0
END:VEVENT
BEGIN:VEVENT
UID:b81028dc-7bfb-11e6-a731-eaecf9f45fbc@peda.net
DTSTAMP:20260421T110549Z
CREATED:20160916T105253Z
DTSTART;TZID=Europe/Helsinki:20160916T160000
SUMMARY:Valtterin nimipäivä
DESCRIPTION:
URL;VALUE=URI:https://peda.net/p/o_eetu.karhunen/teht%C3%A4v%C3%A4t/syyskuu
 1/vn
SEQUENCE:0
END:VEVENT
END:VCALENDAR
