BEGIN:VCALENDAR
VERSION:2.0
PRODID:-//Peda.net/Peda.net Calendar Module//
CALSCALE:GREGORIAN
X-WR-CALNAME:2 lk
X-WR-CALDESC:https://peda.net/id/05ab9cd4f69
X-WR-RELCALID:05ab9cd4-f69f-11f0-b3ca-428e09909083@peda.net
X-WR-TIMEZONE:UTC
BEGIN:VEVENT
UID:1d748376-f69f-11f0-aa8c-6e9f894da45d@peda.net
DTSTAMP:20260424T155239Z
CREATED:20260121T075930Z
DTSTART;TZID=Europe/Helsinki:20260114T090000
DTEND;TZID=Europe/Helsinki:20260114T120000
SUMMARY:uinti
DESCRIPTION:
COLOR:white
URL;VALUE=URI:https://peda.net/joensuu/yp/hein%C3%A4vaaran-koulu/luokat/e-2
 -luokka/2.-luokka/2-lk/uinti2
SEQUENCE:0
END:VEVENT
BEGIN:VEVENT
UID:0e76b5e2-f69f-11f0-ac09-0a80e88c6005@peda.net
DTSTAMP:20260424T155239Z
CREATED:20260121T075905Z
DTSTART;TZID=Europe/Helsinki:20260128T090000
DTEND;TZID=Europe/Helsinki:20260128T120000
SUMMARY:uinti
DESCRIPTION:
COLOR:white
URL;VALUE=URI:https://peda.net/joensuu/yp/hein%C3%A4vaaran-koulu/luokat/e-2
 -luokka/2.-luokka/2-lk/uinti
SEQUENCE:0
END:VEVENT
END:VCALENDAR
