BEGIN:VCALENDAR
VERSION:2.0
PRODID:-//Peda.net/Peda.net Calendar Module//
CALSCALE:GREGORIAN
X-WR-CALNAME:Koulun kalenteri
X-WR-CALDESC:https://peda.net/id/f2ea9e32fbd
X-WR-RELCALID:f2ea9e32-fbd2-11e5-a0b1-bc5ff4fb044d@peda.net
X-WR-TIMEZONE:UTC
BEGIN:VEVENT
UID:4fd05a98-7427-11e6-b78e-d102fbf45fbc@peda.net
DTSTAMP:20260424T113116Z
CREATED:20160906T114447Z
DTSTART;VALUE=DATE:20160920
SUMMARY:7lk kisakalliossa
DESCRIPTION:
URL;VALUE=URI:https://peda.net/lohja/peruskoulut/yhtenaiskoulut/nyk/yll%C3%
 A4pito/koulun-kalenteri/7lk-kisakalliossa
SEQUENCE:0
END:VEVENT
BEGIN:VEVENT
UID:5828caae-7427-11e6-84b9-8b03fbf45fbc@peda.net
DTSTAMP:20260424T113116Z
CREATED:20160906T114501Z
DTSTART;TZID=Europe/Helsinki:20160921T180000
SUMMARY:7lk vanhempainilta
DESCRIPTION:
URL;VALUE=URI:https://peda.net/lohja/peruskoulut/yhtenaiskoulut/nyk/yll%C3%
 A4pito/koulun-kalenteri/7lk-vanhempainilta
SEQUENCE:1
END:VEVENT
BEGIN:VEVENT
UID:98045c02-7ff7-11e6-bf79-4d04fbf45fbc@peda.net
DTSTAMP:20260424T113116Z
CREATED:20160921T123326Z
DTSTART;TZID=Europe/Helsinki:20161025T180000
SUMMARY:8.lk ja 9.lk vanhempainilta
DESCRIPTION:
URL;VALUE=URI:https://peda.net/lohja/peruskoulut/yhtenaiskoulut/nyk/yll%C3%
 A4pito/koulun-kalenteri/8j9v
SEQUENCE:0
END:VEVENT
BEGIN:VEVENT
UID:cb28474e-2671-11e7-a1a2-4d04fbf45fbc@peda.net
DTSTAMP:20260424T113116Z
CREATED:20170421T090623Z
DTSTART;TZID=Europe/Helsinki:20170427T180000
DTEND;TZID=Europe/Helsinki:20170427T200000
SUMMARY:Iltamat - Suomi 100
DESCRIPTION:Nummen yhtenäiskoulun yläkoulun sekä lukion oppilaskunnat yh
 dessä koulun eri musiikinryhmien kanssa järjestävät perinteikkäät il
 tamat Nummen yhtenäiskoulun yläkoulun auditoriossa torstaina 27.4. klo 1
 8.00 - n. 20.00. Suomi 100 -juhlavuoden kunniaksi Iltamissa kuullaan suoma
 laista populaarimusiikkia eri kokoonpanojen esittämänä. \n\nTapahtuma a
 lkaa bändiesityksillä\, joista yleisö illan aikana äänestää oman su
 osikkiesityksensä. Väliajalla on mahdollista nauttia buffet-herkuista ja
  tutustua musiikinryhmien tekemiin esitelmiin kotimaisista artisteista ja 
 bändeistä. Toisella puoliajalla on luvassa yllätysohjelmaa ja illan lop
 uksi vuoden 2017 Iltamien yleisösuosikin julkistaminen ja palkitseminen. 
 Tervetuloa!\n\n \n\nIltamat to 27.4. klo 18.00-20.00\n\nNummen yhtenäisko
 ulun yläkoulun auditoriossa\n\nPääsymaksu 3€
URL;VALUE=URI:https://peda.net/lohja/peruskoulut/yhtenaiskoulut/nyk/yll%C3%
 A4pito/koulun-kalenteri/is1l
SEQUENCE:2
END:VEVENT
BEGIN:VEVENT
UID:41d88926-2672-11e7-996c-4d04fbf45fbc@peda.net
DTSTAMP:20260424T113116Z
CREATED:20170421T090943Z
DTSTART;TZID=Europe/Helsinki:20170427T092500
DTEND;TZID=Europe/Helsinki:20170427T110500
SUMMARY:Iltamien kenraaliharjoitukset illan esiintyjille
DESCRIPTION:Iltamien kenraaliharjoitukset järjestetään torstaina 27.4. k
 lo 9.25-11.05 välillä. Kenraaliharjoituksissa ovat läsnä kaikki Iltami
 en esiintyjät\, mukaan lukien juontajat. 
URL;VALUE=URI:https://peda.net/lohja/peruskoulut/yhtenaiskoulut/nyk/yll%C3%
 A4pito/koulun-kalenteri/ikel
SEQUENCE:1
END:VEVENT
BEGIN:VEVENT
UID:a2edbe64-7427-11e6-8aba-4d04fbf45fbc@peda.net
DTSTAMP:20260424T113116Z
CREATED:20160906T114706Z
DTSTART;VALUE=DATE:20161101
SUMMARY:Innocampus-päivä (Aalto yliopisto)
DESCRIPTION:
URL;VALUE=URI:https://peda.net/lohja/peruskoulut/yhtenaiskoulut/nyk/yll%C3%
 A4pito/koulun-kalenteri/iay
SEQUENCE:0
END:VEVENT
BEGIN:VEVENT
UID:408db012-7427-11e6-9b84-8b03fbf45fbc@peda.net
DTSTAMP:20260424T113116Z
CREATED:20160906T114421Z
DTSTART;VALUE=DATE:20161205
SUMMARY:Itsenäisyysjuhla
DESCRIPTION:
URL;VALUE=URI:https://peda.net/lohja/peruskoulut/yhtenaiskoulut/nyk/yll%C3%
 A4pito/koulun-kalenteri/itsen%C3%A4isyysjuhla
SEQUENCE:0
END:VEVENT
BEGIN:VEVENT
UID:af51579c-7427-11e6-b28d-d102fbf45fbc@peda.net
DTSTAMP:20260424T113116Z
CREATED:20160906T114727Z
DTSTART;VALUE=DATE:20161221
SUMMARY:Joulukirkko
DESCRIPTION:
URL;VALUE=URI:https://peda.net/lohja/peruskoulut/yhtenaiskoulut/nyk/yll%C3%
 A4pito/koulun-kalenteri/joulukirkko
SEQUENCE:0
END:VEVENT
BEGIN:VEVENT
UID:37a110e8-7427-11e6-aa0f-eaecf9f45fbc@peda.net
DTSTAMP:20260424T113116Z
CREATED:20160906T114406Z
DTSTART;VALUE=DATE:20160930
SUMMARY:Kodin ja koulun päivä
DESCRIPTION:
URL;VALUE=URI:https://peda.net/lohja/peruskoulut/yhtenaiskoulut/nyk/yll%C3%
 A4pito/koulun-kalenteri/kjkp
SEQUENCE:0
END:VEVENT
BEGIN:VEVENT
UID:8150a912-5dfa-11e6-b2bf-8b03fbf45fbc@peda.net
DTSTAMP:20260424T113116Z
CREATED:20160809T062837Z
DTSTART;TZID=Europe/Helsinki:20160810T082500
SUMMARY:Koulu alkaa
DESCRIPTION:
URL;VALUE=URI:https://peda.net/lohja/peruskoulut/yhtenaiskoulut/nyk/yll%C3%
 A4pito/koulun-kalenteri/koulu-alkaa
SEQUENCE:0
END:VEVENT
BEGIN:VEVENT
UID:470cf5ce-7427-11e6-880c-8b03fbf45fbc@peda.net
DTSTAMP:20260424T113116Z
CREATED:20160906T114432Z
DTSTART;VALUE=DATE:20161220
SUMMARY:Kuusijuhla
DESCRIPTION:
URL;VALUE=URI:https://peda.net/lohja/peruskoulut/yhtenaiskoulut/nyk/yll%C3%
 A4pito/koulun-kalenteri/kuusijuhla
SEQUENCE:0
END:VEVENT
BEGIN:VEVENT
UID:60e32220-7427-11e6-a0cc-8b03fbf45fbc@peda.net
DTSTAMP:20260424T113116Z
CREATED:20160906T114515Z
DTSTART;TZID=Europe/Helsinki:20160922T114500
SUMMARY:Liikunta iltapäivä
DESCRIPTION:
URL;VALUE=URI:https://peda.net/lohja/peruskoulut/yhtenaiskoulut/nyk/yll%C3%
 A4pito/koulun-kalenteri/li
SEQUENCE:0
END:VEVENT
BEGIN:VEVENT
UID:b209aaea-0d54-11e7-b995-eaecf9f45fbc@peda.net
DTSTAMP:20260424T113116Z
CREATED:20170320T100507Z
DTSTART;TZID=Europe/Helsinki:20170323T170000
SUMMARY:Taidegaala
DESCRIPTION:Nummen monitoimijatalon taidegaala (Oinolan koulukeskuksessa). 
 Ohjelmassa päiväkodin\, ala- ja yläkoulun oppilaiden sekä paikallisten
  kädentaitajien taidenäytely (klo 17-18 ja klo 19-20)\, laulajien ja soi
 ttajien esityksiä klo 18-19. Järj. Nummen monitoimijatalon kehittämisty
 öryhmä ja vanhempaintoimikunta
URL;VALUE=URI:https://peda.net/lohja/peruskoulut/yhtenaiskoulut/nyk/yll%C3%
 A4pito/koulun-kalenteri/taidegaala
SEQUENCE:0
END:VEVENT
BEGIN:VEVENT
UID:921d653a-7427-11e6-b445-d102fbf45fbc@peda.net
DTSTAMP:20260424T113116Z
CREATED:20160906T114638Z
DTSTART;VALUE=DATE:20161014
SUMMARY:Taksvärkkipäivä
DESCRIPTION:
URL;VALUE=URI:https://peda.net/lohja/peruskoulut/yhtenaiskoulut/nyk/yll%C3%
 A4pito/koulun-kalenteri/taksv%C3%A4rkkip%C3%A4iv%C3%A4
SEQUENCE:0
END:VEVENT
BEGIN:VEVENT
UID:879aff32-7427-11e6-80de-4d04fbf45fbc@peda.net
DTSTAMP:20260424T113116Z
CREATED:20160906T114620Z
DTSTART;VALUE=DATE:20161013
DTEND;VALUE=DATE:20161015
SUMMARY:Tukioppilasleiri
DESCRIPTION:
URL;VALUE=URI:https://peda.net/lohja/peruskoulut/yhtenaiskoulut/nyk/yll%C3%
 A4pito/koulun-kalenteri/tukioppilasleiri
SEQUENCE:0
END:VEVENT
BEGIN:VEVENT
UID:77c9c804-7427-11e6-9de6-4d04fbf45fbc@peda.net
DTSTAMP:20260424T113116Z
CREATED:20160906T114554Z
DTSTART;VALUE=DATE:20160926
DTEND;VALUE=DATE:20161008
SUMMARY:Ysit TET:ssä
DESCRIPTION:
URL;VALUE=URI:https://peda.net/lohja/peruskoulut/yhtenaiskoulut/nyk/yll%C3%
 A4pito/koulun-kalenteri/ysit-tet-ss%C3%A4
SEQUENCE:0
END:VEVENT
END:VCALENDAR
