BEGIN:VCALENDAR
VERSION:2.0
PRODID:-//Peda.net/Peda.net Calendar Module//
CALSCALE:GREGORIAN
X-WR-CALNAME:Z3 KALENTERI
X-WR-CALDESC:https://peda.net/id/f12d819c0c9
X-WR-RELCALID:f12d819c-0c9b-11ec-8d36-f8f21e980ce1@peda.net
X-WR-TIMEZONE:UTC
BEGIN:VEVENT
UID:12e8957e-0c9c-11ec-b675-f8f21e980f51@peda.net
DTSTAMP:20260424T201328Z
CREATED:20210903T094821Z
DTSTART;VALUE=DATE:20210910
DTEND;VALUE=DATE:20210911
SUMMARY:Syysretki
DESCRIPTION:
URL;VALUE=URI:https://peda.net/kouvola/perusopetus/koulut/mansikkamaenkoulu
 /luokat/z-luokat/3/z2-kalenteri/syysretki
SEQUENCE:2
END:VEVENT
END:VCALENDAR
