BEGIN:VCALENDAR
VERSION:2.0
PRODID:-//Peda.net/Peda.net Calendar Module//
CALSCALE:GREGORIAN
X-WR-CALNAME:
X-WR-CALDESC:https://peda.net/id/c1bb91449b3
X-WR-RELCALID:c1bb9144-9b3e-11ef-844e-6e9f894da45d@peda.net
X-WR-TIMEZONE:UTC
BEGIN:VEVENT
UID:64846e82-9b67-11ef-bc4a-6e9f894da45d@peda.net
DTSTAMP:20260422T210406Z
CREATED:20241105T111624Z
DTSTART;TZID=Europe/Helsinki:20241118T090000
DTEND;TZID=Europe/Helsinki:20241118T100000
SUMMARY:mok-aloitus
DESCRIPTION:
COLOR:
URL;VALUE=URI:https://peda.net/p/saukko.ida/taidelahtoinen-kielenoppiminen-
 mok/kalenteri/mok-aloitus
SEQUENCE:0
END:VEVENT
BEGIN:VEVENT
UID:5cb674ca-9b67-11ef-b82b-0a80e88c6005@peda.net
DTSTAMP:20260422T210406Z
CREATED:20241105T111611Z
DTSTART;TZID=Europe/Helsinki:20241122T120000
DTEND;TZID=Europe/Helsinki:20241122T130000
SUMMARY:mok-lopetus
DESCRIPTION:
COLOR:
URL;VALUE=URI:https://peda.net/p/saukko.ida/taidelahtoinen-kielenoppiminen-
 mok/kalenteri/mok-lopetus
SEQUENCE:0
END:VEVENT
BEGIN:VEVENT
UID:4b8d836e-9b67-11ef-a17a-428e09909083@peda.net
DTSTAMP:20260422T210406Z
CREATED:20241105T111542Z
DTSTART;TZID=Europe/Helsinki:20241121T110000
DTEND;TZID=Europe/Helsinki:20241121T140000
SUMMARY:vahvuudet
DESCRIPTION:
COLOR:
URL;VALUE=URI:https://peda.net/p/saukko.ida/taidelahtoinen-kielenoppiminen-
 mok/kalenteri/vahvuudet
SEQUENCE:0
END:VEVENT
BEGIN:VEVENT
UID:0fabe976-9b67-11ef-981d-0a80e88c6005@peda.net
DTSTAMP:20260422T210406Z
CREATED:20241105T111401Z
DTSTART;TZID=Europe/Helsinki:20241121T080000
DTEND;TZID=Europe/Helsinki:20241121T100000
SUMMARY:jäävuori
DESCRIPTION:
COLOR:
URL;VALUE=URI:https://peda.net/p/saukko.ida/taidelahtoinen-kielenoppiminen-
 mok/kalenteri/jaavuori
SEQUENCE:0
END:VEVENT
BEGIN:VEVENT
UID:38d255fe-9b4b-11ef-a519-428e09909083@peda.net
DTSTAMP:20260422T210406Z
CREATED:20241105T075444Z
DTSTART;TZID=Europe/Helsinki:20241120T080000
DTEND;TZID=Europe/Helsinki:20241120T120000
SUMMARY:Joukkue tehtävä
DESCRIPTION:
COLOR:
URL;VALUE=URI:https://peda.net/p/saukko.ida/taidelahtoinen-kielenoppiminen-
 mok/kalenteri/joukkue-tehtava
SEQUENCE:0
END:VEVENT
BEGIN:VEVENT
UID:1fc4757e-9b4b-11ef-9315-428e09909083@peda.net
DTSTAMP:20260422T210406Z
CREATED:20241105T075402Z
DTSTART;TZID=Europe/Helsinki:20241119T081500
DTEND;TZID=Europe/Helsinki:20241119T112000
SUMMARY:Toteemipaalu tehtävä
DESCRIPTION:
COLOR:
URL;VALUE=URI:https://peda.net/p/saukko.ida/taidelahtoinen-kielenoppiminen-
 mok/kalenteri/toteemipaalu-tehtava
SEQUENCE:0
END:VEVENT
END:VCALENDAR
