BEGIN:VCALENDAR
VERSION:2.0
PRODID:-//Peda.net/Peda.net Calendar Module//
CALSCALE:GREGORIAN
X-WR-CALNAME:Punaposkien kalenteri
X-WR-CALDESC:https://peda.net/id/b48118787a4
X-WR-RELCALID:b4811878-7a46-11ef-87bf-0a80e88c6005@peda.net
X-WR-TIMEZONE:UTC
BEGIN:VEVENT
UID:da0ab94c-cce3-11ef-bb52-428e09909083@peda.net
DTSTAMP:20260424T113114Z
CREATED:20250107T104045Z
DTSTART;TZID=Europe/Helsinki:20250114T090000
DTEND;TZID=Europe/Helsinki:20250114T110000
SUMMARY:Muskari
DESCRIPTION:
COLOR:
URL;VALUE=URI:https://peda.net/lohja/varhaiskasvatus/vs/pkonnenomena/gruppe
 r/punaposket/punaposkien-kalenteri/muskari2
SEQUENCE:0
END:VEVENT
BEGIN:VEVENT
UID:cade7ed4-cce0-11ef-a1f5-6e9f894da45d@peda.net
DTSTAMP:20260424T113114Z
CREATED:20250107T101851Z
DTSTART;VALUE=DATE:20250110
DTEND;VALUE=DATE:20250111
SUMMARY:Leikkiviikko
DESCRIPTION:
COLOR:
URL;VALUE=URI:https://peda.net/lohja/varhaiskasvatus/vs/pkonnenomena/gruppe
 r/punaposket/punaposkien-kalenteri/leikkiviikkoc
SEQUENCE:0
END:VEVENT
BEGIN:VEVENT
UID:c1a9f49c-cce0-11ef-a129-0a80e88c6005@peda.net
DTSTAMP:20260424T113114Z
CREATED:20250107T101836Z
DTSTART;VALUE=DATE:20250109
DTEND;VALUE=DATE:20250110
SUMMARY:Leikkiviikko
DESCRIPTION:
COLOR:
URL;VALUE=URI:https://peda.net/lohja/varhaiskasvatus/vs/pkonnenomena/gruppe
 r/punaposket/punaposkien-kalenteri/leikkiviikko3
SEQUENCE:0
END:VEVENT
BEGIN:VEVENT
UID:bb5cda32-cce0-11ef-a9fe-6e9f894da45d@peda.net
DTSTAMP:20260424T113114Z
CREATED:20250107T101825Z
DTSTART;VALUE=DATE:20250108
DTEND;VALUE=DATE:20250109
SUMMARY:Leikkiviikko
DESCRIPTION:
COLOR:
URL;VALUE=URI:https://peda.net/lohja/varhaiskasvatus/vs/pkonnenomena/gruppe
 r/punaposket/punaposkien-kalenteri/leikkiviikko2
SEQUENCE:0
END:VEVENT
BEGIN:VEVENT
UID:b5ed149a-cce0-11ef-8c2d-0a80e88c6005@peda.net
DTSTAMP:20260424T113114Z
CREATED:20250107T101816Z
DTSTART;VALUE=DATE:20250107
DTEND;VALUE=DATE:20250108
SUMMARY:Leikkiviikko
DESCRIPTION:
COLOR:
URL;VALUE=URI:https://peda.net/lohja/varhaiskasvatus/vs/pkonnenomena/gruppe
 r/punaposket/punaposkien-kalenteri/leikkiviikko
SEQUENCE:0
END:VEVENT
BEGIN:VEVENT
UID:b49ee992-ae40-11ef-8ecc-428e09909083@peda.net
DTSTAMP:20260424T113114Z
CREATED:20241129T105720Z
DTSTART;TZID=Europe/Helsinki:20241220T080000
DTEND;TZID=Europe/Helsinki:20241220T090000
SUMMARY:Joulupuuro
DESCRIPTION:
COLOR:
URL;VALUE=URI:https://peda.net/lohja/varhaiskasvatus/vs/pkonnenomena/gruppe
 r/punaposket/punaposkien-kalenteri/joulupuuro
SEQUENCE:0
END:VEVENT
BEGIN:VEVENT
UID:7daed1cc-ae40-11ef-b398-6e9f894da45d@peda.net
DTSTAMP:20260424T113114Z
CREATED:20241129T105548Z
DTSTART;TZID=Europe/Helsinki:20241209T090000
DTEND;TZID=Europe/Helsinki:20241209T110000
SUMMARY:Lauluhetki
DESCRIPTION:
COLOR:
URL;VALUE=URI:https://peda.net/lohja/varhaiskasvatus/vs/pkonnenomena/gruppe
 r/punaposket/punaposkien-kalenteri/lauluhetki3
SEQUENCE:0
END:VEVENT
BEGIN:VEVENT
UID:2c3a1180-ae40-11ef-a608-0a80e88c6005@peda.net
DTSTAMP:20260424T113114Z
CREATED:20241129T105331Z
DTSTART;TZID=Europe/Helsinki:20241210T090000
DTEND;TZID=Europe/Helsinki:20241210T110000
SUMMARY:Muskari\, pienryhmä kädentaidot
DESCRIPTION:
COLOR:
URL;VALUE=URI:https://peda.net/lohja/varhaiskasvatus/vs/pkonnenomena/gruppe
 r/punaposket/punaposkien-kalenteri/muskari-pienryhma-kadentaidot
SEQUENCE:0
END:VEVENT
BEGIN:VEVENT
UID:08307f5e-ae40-11ef-8807-0a80e88c6005@peda.net
DTSTAMP:20260424T113114Z
CREATED:20241129T105231Z
DTSTART;TZID=Europe/Helsinki:20241203T090000
DTEND;TZID=Europe/Helsinki:20241203T110000
SUMMARY:Muskari
DESCRIPTION:
COLOR:
URL;VALUE=URI:https://peda.net/lohja/varhaiskasvatus/vs/pkonnenomena/gruppe
 r/punaposket/punaposkien-kalenteri/muskari
SEQUENCE:0
END:VEVENT
BEGIN:VEVENT
UID:e2e8dcaa-ae3f-11ef-a28e-6e9f894da45d@peda.net
DTSTAMP:20260424T113114Z
CREATED:20241129T105128Z
DTSTART;TZID=Europe/Helsinki:20241211T090000
DTEND;TZID=Europe/Helsinki:20241211T110000
SUMMARY:Jouluhartaus 9.30
DESCRIPTION:
COLOR:
URL;VALUE=URI:https://peda.net/lohja/varhaiskasvatus/vs/pkonnenomena/gruppe
 r/punaposket/punaposkien-kalenteri/jouluhartaus-9.30
SEQUENCE:0
END:VEVENT
BEGIN:VEVENT
UID:d2339ec4-ae3d-11ef-a6ec-0a80e88c6005@peda.net
DTSTAMP:20260424T113114Z
CREATED:20241129T103641Z
DTSTART;TZID=Europe/Helsinki:20241205T090000
DTEND;TZID=Europe/Helsinki:20241205T110000
SUMMARY:Karhua katsomaan.
DESCRIPTION:
COLOR:
URL;VALUE=URI:https://peda.net/lohja/varhaiskasvatus/vs/pkonnenomena/gruppe
 r/punaposket/punaposkien-kalenteri/karhua-katsomaan2
SEQUENCE:0
END:VEVENT
BEGIN:VEVENT
UID:7ef5a49c-ae3c-11ef-a38d-428e09909083@peda.net
DTSTAMP:20260424T113114Z
CREATED:20241129T102712Z
DTSTART;TZID=Europe/Helsinki:20241202T090000
DTEND;TZID=Europe/Helsinki:20241202T110000
SUMMARY:Koko talon lauluhetki ja leikkipäivä
DESCRIPTION:
COLOR:
URL;VALUE=URI:https://peda.net/lohja/varhaiskasvatus/vs/pkonnenomena/gruppe
 r/punaposket/punaposkien-kalenteri/koko-talon-lauluhetki-ja-leikkipaiva
SEQUENCE:0
END:VEVENT
BEGIN:VEVENT
UID:04a0b03a-a1bf-11ef-8353-0a80e88c6005@peda.net
DTSTAMP:20260424T113114Z
CREATED:20241113T125845Z
DTSTART;TZID=Europe/Helsinki:20241129T090000
DTEND;TZID=Europe/Helsinki:20241129T110000
SUMMARY:Majaleikki\, eväät majassa
DESCRIPTION:
COLOR:
URL;VALUE=URI:https://peda.net/lohja/varhaiskasvatus/vs/pkonnenomena/gruppe
 r/punaposket/punaposkien-kalenteri/majaleikki-evaat-majassa
SEQUENCE:0
END:VEVENT
BEGIN:VEVENT
UID:cc14b932-a1be-11ef-9e40-0a80e88c6005@peda.net
DTSTAMP:20260424T113114Z
CREATED:20241113T125711Z
DTSTART;TZID=Europe/Helsinki:20241128T090000
DTEND;TZID=Europe/Helsinki:20241128T160000
SUMMARY:Retkipäivä\, lelut mukaan
DESCRIPTION:
COLOR:
URL;VALUE=URI:https://peda.net/lohja/varhaiskasvatus/vs/pkonnenomena/gruppe
 r/punaposket/punaposkien-kalenteri/retkipaiva-lelut-mukaan
SEQUENCE:0
END:VEVENT
BEGIN:VEVENT
UID:bcd75d80-a1be-11ef-9006-428e09909083@peda.net
DTSTAMP:20260424T113114Z
CREATED:20241113T125645Z
DTSTART;TZID=Europe/Helsinki:20241127T090000
DTEND;TZID=Europe/Helsinki:20241127T110000
SUMMARY:Tunnetaidot\, pienryhmät
DESCRIPTION:
COLOR:
URL;VALUE=URI:https://peda.net/lohja/varhaiskasvatus/vs/pkonnenomena/gruppe
 r/punaposket/punaposkien-kalenteri/tunnetaidot-pienryhmat
SEQUENCE:0
END:VEVENT
BEGIN:VEVENT
UID:8332833e-a1be-11ef-ad1f-428e09909083@peda.net
DTSTAMP:20260424T113114Z
CREATED:20241113T125508Z
DTSTART;TZID=Europe/Helsinki:20241126T090000
DTEND;TZID=Europe/Helsinki:20241126T110000
SUMMARY:Pienryhmä\, muskari\, tunnetaitoja
DESCRIPTION:
COLOR:
URL;VALUE=URI:https://peda.net/lohja/varhaiskasvatus/vs/pkonnenomena/gruppe
 r/punaposket/punaposkien-kalenteri/pienryhma-muskari-tunnetaitoja
SEQUENCE:0
END:VEVENT
BEGIN:VEVENT
UID:726e2256-a1be-11ef-b932-0a80e88c6005@peda.net
DTSTAMP:20260424T113114Z
CREATED:20241113T125440Z
DTSTART;TZID=Europe/Helsinki:20241125T090000
DTEND;TZID=Europe/Helsinki:20241125T110000
SUMMARY:Lauluhetki\, joululauluja
DESCRIPTION:
COLOR:
URL;VALUE=URI:https://peda.net/lohja/varhaiskasvatus/vs/pkonnenomena/gruppe
 r/punaposket/punaposkien-kalenteri/lauluhetki-joululauluja
SEQUENCE:0
END:VEVENT
BEGIN:VEVENT
UID:3637bc70-a1be-11ef-974e-0a80e88c6005@peda.net
DTSTAMP:20260424T113114Z
CREATED:20241113T125259Z
DTSTART;TZID=Europe/Helsinki:20241122T090000
DTEND;TZID=Europe/Helsinki:20241122T110000
SUMMARY:Jumppasali
DESCRIPTION:
COLOR:
URL;VALUE=URI:https://peda.net/lohja/varhaiskasvatus/vs/pkonnenomena/gruppe
 r/punaposket/punaposkien-kalenteri/jumppasali
SEQUENCE:0
END:VEVENT
BEGIN:VEVENT
UID:1a3fed3a-a1be-11ef-b446-0a80e88c6005@peda.net
DTSTAMP:20260424T113114Z
CREATED:20241113T125212Z
DTSTART;TZID=Europe/Helsinki:20241121T090000
DTEND;TZID=Europe/Helsinki:20241121T110000
SUMMARY:Oman lelun päivä
DESCRIPTION:
COLOR:
URL;VALUE=URI:https://peda.net/lohja/varhaiskasvatus/vs/pkonnenomena/gruppe
 r/punaposket/punaposkien-kalenteri/oman-lelun-paiva
SEQUENCE:0
END:VEVENT
BEGIN:VEVENT
UID:03871ed8-a1be-11ef-b445-0a80e88c6005@peda.net
DTSTAMP:20260424T113114Z
CREATED:20241113T125134Z
DTSTART;TZID=Europe/Helsinki:20241120T090000
DTEND;TZID=Europe/Helsinki:20241120T110000
SUMMARY:Valokuvaus
DESCRIPTION:
COLOR:
URL;VALUE=URI:https://peda.net/lohja/varhaiskasvatus/vs/pkonnenomena/gruppe
 r/punaposket/punaposkien-kalenteri/valokuvaus
SEQUENCE:0
END:VEVENT
BEGIN:VEVENT
UID:f91f4fa6-a1bd-11ef-a217-428e09909083@peda.net
DTSTAMP:20260424T113114Z
CREATED:20241113T125117Z
DTSTART;TZID=Europe/Helsinki:20241119T090000
DTEND;TZID=Europe/Helsinki:20241119T110000
SUMMARY:Leffa\, perhepolku vanhempainilta\, muskari
DESCRIPTION:
COLOR:white
URL;VALUE=URI:https://peda.net/lohja/varhaiskasvatus/vs/pkonnenomena/gruppe
 r/punaposket/punaposkien-kalenteri/leffa-perhepolku-vanhempainilta
SEQUENCE:1
END:VEVENT
BEGIN:VEVENT
UID:d30d6960-a1bd-11ef-bd12-428e09909083@peda.net
DTSTAMP:20260424T113114Z
CREATED:20241113T125013Z
DTSTART;TZID=Europe/Helsinki:20241115T090000
DTEND;TZID=Europe/Helsinki:20241115T110000
SUMMARY:Leikkipäivä\, kirjastoauto
DESCRIPTION:
COLOR:
URL;VALUE=URI:https://peda.net/lohja/varhaiskasvatus/vs/pkonnenomena/gruppe
 r/punaposket/punaposkien-kalenteri/leikkipaiva-kirjastoauto
SEQUENCE:0
END:VEVENT
BEGIN:VEVENT
UID:aaae5952-a1bd-11ef-a712-428e09909083@peda.net
DTSTAMP:20260424T113114Z
CREATED:20241113T124905Z
DTSTART;TZID=Europe/Helsinki:20241114T110000
DTEND;TZID=Europe/Helsinki:20241114T110000
SUMMARY:Pienryhmät pelipäivä
DESCRIPTION:
COLOR:
URL;VALUE=URI:https://peda.net/lohja/varhaiskasvatus/vs/pkonnenomena/gruppe
 r/punaposket/punaposkien-kalenteri/pienryhmat-pelipaiva
SEQUENCE:0
END:VEVENT
BEGIN:VEVENT
UID:99083ff6-a1bd-11ef-a9e3-6e9f894da45d@peda.net
DTSTAMP:20260424T113114Z
CREATED:20241113T124835Z
DTSTART;TZID=Europe/Helsinki:20241113T090000
DTEND;TZID=Europe/Helsinki:20241113T110000
SUMMARY:Kädentaidot\, pienryhmät
DESCRIPTION:
COLOR:
URL;VALUE=URI:https://peda.net/lohja/varhaiskasvatus/vs/pkonnenomena/gruppe
 r/punaposket/punaposkien-kalenteri/kadentaidot-pienryhmat
SEQUENCE:0
END:VEVENT
BEGIN:VEVENT
UID:7c3a7bf0-a1bd-11ef-ba10-428e09909083@peda.net
DTSTAMP:20260424T113114Z
CREATED:20241113T124747Z
DTSTART;TZID=Europe/Helsinki:20241112T090000
DTEND;TZID=Europe/Helsinki:20241112T110000
SUMMARY:Pienryhmät\, kädentaidot\, muskari
DESCRIPTION:
COLOR:
URL;VALUE=URI:https://peda.net/lohja/varhaiskasvatus/vs/pkonnenomena/gruppe
 r/punaposket/punaposkien-kalenteri/pienryhmat-kadentaidot-muskari
SEQUENCE:0
END:VEVENT
BEGIN:VEVENT
UID:533077dc-a1bd-11ef-8131-0a80e88c6005@peda.net
DTSTAMP:20260424T113114Z
CREATED:20241113T124638Z
DTSTART;TZID=Europe/Helsinki:20241111T090000
DTEND;TZID=Europe/Helsinki:20241111T110000
SUMMARY:Retki puistoon
DESCRIPTION:
COLOR:
URL;VALUE=URI:https://peda.net/lohja/varhaiskasvatus/vs/pkonnenomena/gruppe
 r/punaposket/punaposkien-kalenteri/retki-puistoon
SEQUENCE:0
END:VEVENT
BEGIN:VEVENT
UID:b5ca8d64-95e8-11ef-864b-0a80e88c6005@peda.net
DTSTAMP:20260424T113114Z
CREATED:20241029T112658Z
DTSTART;TZID=Europe/Helsinki:20241108T090000
DTEND;TZID=Europe/Helsinki:20241108T110000
SUMMARY:Jumppaa
DESCRIPTION:
COLOR:
URL;VALUE=URI:https://peda.net/lohja/varhaiskasvatus/vs/pkonnenomena/gruppe
 r/punaposket/punaposkien-kalenteri/jumppaa
SEQUENCE:0
END:VEVENT
BEGIN:VEVENT
UID:a84da630-95e8-11ef-a098-428e09909083@peda.net
DTSTAMP:20260424T113114Z
CREATED:20241029T112636Z
DTSTART;TZID=Europe/Helsinki:20241107T090000
DTEND;TZID=Europe/Helsinki:20241107T110000
SUMMARY:Lauluhetki
DESCRIPTION:
COLOR:
URL;VALUE=URI:https://peda.net/lohja/varhaiskasvatus/vs/pkonnenomena/gruppe
 r/punaposket/punaposkien-kalenteri/lauluhetki2
SEQUENCE:0
END:VEVENT
BEGIN:VEVENT
UID:6fffec20-95e8-11ef-9d5f-6e9f894da45d@peda.net
DTSTAMP:20260424T113114Z
CREATED:20241029T112501Z
DTSTART;TZID=Europe/Helsinki:20241106T090000
DTEND;TZID=Europe/Helsinki:20241106T110000
SUMMARY:Kädentaodot
DESCRIPTION:
COLOR:
URL;VALUE=URI:https://peda.net/lohja/varhaiskasvatus/vs/pkonnenomena/gruppe
 r/punaposket/punaposkien-kalenteri/kadentaodot
SEQUENCE:0
END:VEVENT
BEGIN:VEVENT
UID:6352ec70-95e8-11ef-b799-428e09909083@peda.net
DTSTAMP:20260424T113114Z
CREATED:20241029T112440Z
DTSTART;TZID=Europe/Helsinki:20241105T090000
DTEND;TZID=Europe/Helsinki:20241105T110000
SUMMARY:Muskari / kädentaodot
DESCRIPTION:
COLOR:
URL;VALUE=URI:https://peda.net/lohja/varhaiskasvatus/vs/pkonnenomena/gruppe
 r/punaposket/punaposkien-kalenteri/muskari-kadentaodot
SEQUENCE:0
END:VEVENT
BEGIN:VEVENT
UID:52291406-95e8-11ef-8a2d-0a80e88c6005@peda.net
DTSTAMP:20260424T113114Z
CREATED:20241029T112411Z
DTSTART;VALUE=DATE:20241104
DTEND;VALUE=DATE:20241105
SUMMARY:Koko talon lauluhetki
DESCRIPTION:
COLOR:
URL;VALUE=URI:https://peda.net/lohja/varhaiskasvatus/vs/pkonnenomena/gruppe
 r/punaposket/punaposkien-kalenteri/koko-talon-lauluhetki
SEQUENCE:0
END:VEVENT
BEGIN:VEVENT
UID:d66f5404-8621-11ef-9b83-428e09909083@peda.net
DTSTAMP:20260424T113114Z
CREATED:20241009T093536Z
DTSTART;TZID=Europe/Helsinki:20241025T090000
DTEND;TZID=Europe/Helsinki:20241025T140000
SUMMARY:Metsäretki
DESCRIPTION:
COLOR:
URL;VALUE=URI:https://peda.net/lohja/varhaiskasvatus/vs/pkonnenomena/gruppe
 r/punaposket/punaposkien-kalenteri/metsaretki2
SEQUENCE:0
END:VEVENT
BEGIN:VEVENT
UID:7815654c-8621-11ef-90ec-0a80e88c6005@peda.net
DTSTAMP:20260424T113114Z
CREATED:20241009T093257Z
DTSTART;TZID=Europe/Helsinki:20241030T090000
DTEND;TZID=Europe/Helsinki:20241030T140000
SUMMARY:Kädentaidot
DESCRIPTION:
COLOR:
URL;VALUE=URI:https://peda.net/lohja/varhaiskasvatus/vs/pkonnenomena/gruppe
 r/punaposket/punaposkien-kalenteri/kadentaidot2
SEQUENCE:0
END:VEVENT
BEGIN:VEVENT
UID:6fe969e0-8621-11ef-a542-6e9f894da45d@peda.net
DTSTAMP:20260424T113114Z
CREATED:20241009T093244Z
DTSTART;TZID=Europe/Helsinki:20241029T090000
DTEND;TZID=Europe/Helsinki:20241029T140000
SUMMARY:Kädentaidot
DESCRIPTION:
COLOR:
URL;VALUE=URI:https://peda.net/lohja/varhaiskasvatus/vs/pkonnenomena/gruppe
 r/punaposket/punaposkien-kalenteri/kadentaidot
SEQUENCE:0
END:VEVENT
BEGIN:VEVENT
UID:57867a28-8621-11ef-b5ea-0a80e88c6005@peda.net
DTSTAMP:20260424T113114Z
CREATED:20241009T093203Z
DTSTART;TZID=Europe/Helsinki:20241028T090000
DTEND;TZID=Europe/Helsinki:20241028T140000
SUMMARY:Eväsretki metsään
DESCRIPTION:Pienet terveelliset eväät retkireppuun. Esim. myslipatukka ja
  vesipullo. 
COLOR:white
URL;VALUE=URI:https://peda.net/lohja/varhaiskasvatus/vs/pkonnenomena/gruppe
 r/punaposket/punaposkien-kalenteri/metsaretki
SEQUENCE:1
END:VEVENT
BEGIN:VEVENT
UID:5e719238-8620-11ef-90e0-0a80e88c6005@peda.net
DTSTAMP:20260424T113114Z
CREATED:20241009T092505Z
DTSTART;TZID=Europe/Helsinki:20241024T090000
DTEND;TZID=Europe/Helsinki:20241024T140000
SUMMARY:Nallepäivä
DESCRIPTION:
COLOR:
URL;VALUE=URI:https://peda.net/lohja/varhaiskasvatus/vs/pkonnenomena/gruppe
 r/punaposket/punaposkien-kalenteri/nallepaiva
SEQUENCE:0
END:VEVENT
BEGIN:VEVENT
UID:23277422-8620-11ef-9ed9-0a80e88c6005@peda.net
DTSTAMP:20260424T113114Z
CREATED:20241009T092325Z
DTSTART;TZID=Europe/Helsinki:20241031T090000
DTEND;TZID=Europe/Helsinki:20241031T140000
SUMMARY:Halloween/ kaamosjuhla. Oma herkku. Pukeutuminen.
DESCRIPTION:
COLOR:white
URL;VALUE=URI:https://peda.net/lohja/varhaiskasvatus/vs/pkonnenomena/gruppe
 r/punaposket/punaposkien-kalenteri/halloween
SEQUENCE:1
END:VEVENT
BEGIN:VEVENT
UID:ebb812c6-861f-11ef-8b40-6e9f894da45d@peda.net
DTSTAMP:20260424T113114Z
CREATED:20241009T092152Z
DTSTART;TZID=Europe/Helsinki:20241101T130000
DTEND;TZID=Europe/Helsinki:20241101T140000
SUMMARY:Jumppasali 9.15-11.00
DESCRIPTION:
COLOR:white
URL;VALUE=URI:https://peda.net/lohja/varhaiskasvatus/vs/pkonnenomena/gruppe
 r/punaposket/punaposkien-kalenteri/jumppasali-9.15-10.15
SEQUENCE:1
END:VEVENT
BEGIN:VEVENT
UID:d946be12-861f-11ef-92d7-0a80e88c6005@peda.net
DTSTAMP:20260424T113114Z
CREATED:20241009T092121Z
DTSTART;TZID=Europe/Helsinki:20241021T130000
DTEND;TZID=Europe/Helsinki:20241021T140000
SUMMARY:Oman kirjan lukua
DESCRIPTION:
COLOR:
URL;VALUE=URI:https://peda.net/lohja/varhaiskasvatus/vs/pkonnenomena/gruppe
 r/punaposket/punaposkien-kalenteri/oman-kirjan-lukua
SEQUENCE:0
END:VEVENT
BEGIN:VEVENT
UID:ce23bd14-861f-11ef-b139-6e9f894da45d@peda.net
DTSTAMP:20260424T113114Z
CREATED:20241009T092103Z
DTSTART;TZID=Europe/Helsinki:20241022T130000
DTEND;TZID=Europe/Helsinki:20241022T140000
SUMMARY:Pienryhmät sadutus
DESCRIPTION:
COLOR:white
URL;VALUE=URI:https://peda.net/lohja/varhaiskasvatus/vs/pkonnenomena/gruppe
 r/punaposket/punaposkien-kalenteri/pienryhmat-savutus
SEQUENCE:1
END:VEVENT
BEGIN:VEVENT
UID:5a7d78aa-861f-11ef-970b-6e9f894da45d@peda.net
DTSTAMP:20260424T113114Z
CREATED:20241009T091749Z
DTSTART;VALUE=DATE:20241021
DTEND;VALUE=DATE:20241026
SUMMARY:Kirjaviikko
DESCRIPTION:
COLOR:
URL;VALUE=URI:https://peda.net/lohja/varhaiskasvatus/vs/pkonnenomena/gruppe
 r/punaposket/punaposkien-kalenteri/kirjaviikko
SEQUENCE:0
END:VEVENT
BEGIN:VEVENT
UID:8f1397ae-85af-11ef-bea6-0a80e88c6005@peda.net
DTSTAMP:20260424T113114Z
CREATED:20241008T195733Z
DTSTART;VALUE=DATE:20241018
DTEND;VALUE=DATE:20241019
SUMMARY:Syysloma
DESCRIPTION:
COLOR:
URL;VALUE=URI:https://peda.net/lohja/varhaiskasvatus/vs/pkonnenomena/gruppe
 r/punaposket/punaposkien-kalenteri/syysloma2
SEQUENCE:0
END:VEVENT
BEGIN:VEVENT
UID:81a7506a-85af-11ef-b422-428e09909083@peda.net
DTSTAMP:20260424T113114Z
CREATED:20241008T195711Z
DTSTART;VALUE=DATE:20241017
DTEND;VALUE=DATE:20241018
SUMMARY:Syysloma
DESCRIPTION:
COLOR:
URL;VALUE=URI:https://peda.net/lohja/varhaiskasvatus/vs/pkonnenomena/gruppe
 r/punaposket/punaposkien-kalenteri/syysloma
SEQUENCE:0
END:VEVENT
BEGIN:VEVENT
UID:1bb48bec-85af-11ef-bfc8-6e9f894da45d@peda.net
DTSTAMP:20260424T113114Z
CREATED:20241008T195420Z
DTSTART;VALUE=DATE:20241016
DTEND;VALUE=DATE:20241017
SUMMARY:Syysloma
DESCRIPTION:
COLOR:white
URL;VALUE=URI:https://peda.net/lohja/varhaiskasvatus/vs/pkonnenomena/gruppe
 r/punaposket/punaposkien-kalenteri/syysloma-muijalan-paivakoti
SEQUENCE:1
END:VEVENT
BEGIN:VEVENT
UID:f702b6f2-85ae-11ef-a818-428e09909083@peda.net
DTSTAMP:20260424T113114Z
CREATED:20241008T195318Z
DTSTART;VALUE=DATE:20241015
DTEND;VALUE=DATE:20241016
SUMMARY:Syysloma
DESCRIPTION:
COLOR:white
URL;VALUE=URI:https://peda.net/lohja/varhaiskasvatus/vs/pkonnenomena/gruppe
 r/punaposket/punaposkien-kalenteri/syysloma-olemme-muijalan-paivakodissa.
SEQUENCE:2
END:VEVENT
BEGIN:VEVENT
UID:d332a9da-85ae-11ef-94c3-6e9f894da45d@peda.net
DTSTAMP:20260424T113114Z
CREATED:20241008T195218Z
DTSTART;VALUE=DATE:20241014
DTEND;VALUE=DATE:20241015
SUMMARY:Syysloma: Muijalan päiväkoti
DESCRIPTION:
COLOR:white
URL;VALUE=URI:https://peda.net/lohja/varhaiskasvatus/vs/pkonnenomena/gruppe
 r/punaposket/punaposkien-kalenteri/syysloma-olemme-muijalan-paivakodissa
SEQUENCE:1
END:VEVENT
BEGIN:VEVENT
UID:ad54b15e-85ae-11ef-bcaa-0a80e88c6005@peda.net
DTSTAMP:20260424T113114Z
CREATED:20241008T195115Z
DTSTART;VALUE=DATE:20241011
DTEND;VALUE=DATE:20241012
SUMMARY:Oman kirjan päivä
DESCRIPTION:
COLOR:
URL;VALUE=URI:https://peda.net/lohja/varhaiskasvatus/vs/pkonnenomena/gruppe
 r/punaposket/punaposkien-kalenteri/oman-kirjan-paiva3
SEQUENCE:0
END:VEVENT
BEGIN:VEVENT
UID:9ed2b7f2-85ae-11ef-8e21-428e09909083@peda.net
DTSTAMP:20260424T113114Z
CREATED:20241008T195050Z
DTSTART;VALUE=DATE:20241010
DTEND;VALUE=DATE:20241011
SUMMARY:Oman kirjan päivä
DESCRIPTION:
COLOR:
URL;VALUE=URI:https://peda.net/lohja/varhaiskasvatus/vs/pkonnenomena/gruppe
 r/punaposket/punaposkien-kalenteri/oman-kirjan-paiva2
SEQUENCE:0
END:VEVENT
BEGIN:VEVENT
UID:5eae371e-85ae-11ef-aac7-6e9f894da45d@peda.net
DTSTAMP:20260424T113114Z
CREATED:20241008T194903Z
DTSTART;VALUE=DATE:20241009
DTEND;VALUE=DATE:20241010
SUMMARY:Oman kirjan päivä
DESCRIPTION:
COLOR:white
URL;VALUE=URI:https://peda.net/lohja/varhaiskasvatus/vs/pkonnenomena/gruppe
 r/punaposket/punaposkien-kalenteri/oman-kirjan-paiva
SEQUENCE:1
END:VEVENT
BEGIN:VEVENT
UID:178844c0-7b21-11ef-b50f-428e09909083@peda.net
DTSTAMP:20260424T113114Z
CREATED:20240925T093233Z
DTSTART;TZID=Europe/Helsinki:20240927T090000
DTEND;TZID=Europe/Helsinki:20240927T110000
SUMMARY:Pelipäivä
DESCRIPTION:
COLOR:
URL;VALUE=URI:https://peda.net/lohja/varhaiskasvatus/vs/pkonnenomena/gruppe
 r/punaposket/punaposkien-kalenteri/pelipaiva
SEQUENCE:0
END:VEVENT
BEGIN:VEVENT
UID:eb3547c6-7a5b-11ef-bdc6-6e9f894da45d@peda.net
DTSTAMP:20260424T113114Z
CREATED:20240924T100107Z
DTSTART;TZID=Europe/Helsinki:20240930T090000
DTEND;TZID=Europe/Helsinki:20240930T110000
SUMMARY:Lauluhetki
DESCRIPTION:
COLOR:
URL;VALUE=URI:https://peda.net/lohja/varhaiskasvatus/vs/pkonnenomena/gruppe
 r/punaposket/punaposkien-kalenteri/lauluhetki
SEQUENCE:0
END:VEVENT
BEGIN:VEVENT
UID:e0930b32-7a5b-11ef-859c-0a80e88c6005@peda.net
DTSTAMP:20260424T113114Z
CREATED:20240924T100049Z
DTSTART;TZID=Europe/Helsinki:20241003T090000
DTEND;TZID=Europe/Helsinki:20241003T110000
SUMMARY:Pienryhmät leikkaaminen
DESCRIPTION:
COLOR:
URL;VALUE=URI:https://peda.net/lohja/varhaiskasvatus/vs/pkonnenomena/gruppe
 r/punaposket/punaposkien-kalenteri/pienryhmat-leikkaaminen
SEQUENCE:0
END:VEVENT
BEGIN:VEVENT
UID:ca830ab8-7a5b-11ef-94a6-0a80e88c6005@peda.net
DTSTAMP:20260424T113114Z
CREATED:20240924T100012Z
DTSTART;TZID=Europe/Helsinki:20241002T090000
DTEND;TZID=Europe/Helsinki:20241002T110000
SUMMARY:Ulkoilua
DESCRIPTION:
COLOR:
URL;VALUE=URI:https://peda.net/lohja/varhaiskasvatus/vs/pkonnenomena/gruppe
 r/punaposket/punaposkien-kalenteri/ulkoilua
SEQUENCE:0
END:VEVENT
BEGIN:VEVENT
UID:bc9e3f8a-7a5b-11ef-88db-6e9f894da45d@peda.net
DTSTAMP:20260424T113114Z
CREATED:20240924T095949Z
DTSTART;TZID=Europe/Helsinki:20241001T090000
DTEND;TZID=Europe/Helsinki:20241001T110000
SUMMARY:Pienryhmät
DESCRIPTION:
COLOR:
URL;VALUE=URI:https://peda.net/lohja/varhaiskasvatus/vs/pkonnenomena/gruppe
 r/punaposket/punaposkien-kalenteri/pienryhmat
SEQUENCE:0
END:VEVENT
BEGIN:VEVENT
UID:2d21ad9c-7a47-11ef-bdef-6e9f894da45d@peda.net
DTSTAMP:20260424T113114Z
CREATED:20240924T073239Z
DTSTART;TZID=Europe/Helsinki:20240926T090000
DTEND;TZID=Europe/Helsinki:20240926T110000
SUMMARY:Metsäretki. Ei eväitä!
DESCRIPTION:
COLOR:
URL;VALUE=URI:https://peda.net/lohja/varhaiskasvatus/vs/pkonnenomena/gruppe
 r/punaposket/punaposkien-kalenteri/metsaretki.-ei-evaita
SEQUENCE:0
END:VEVENT
BEGIN:VEVENT
UID:f6f95cf6-7a46-11ef-99ef-6e9f894da45d@peda.net
DTSTAMP:20260424T113114Z
CREATED:20240924T073108Z
DTSTART;TZID=Europe/Helsinki:20241004T090000
DTEND;TZID=Europe/Helsinki:20241004T093000
SUMMARY:Kirjastoauto
DESCRIPTION:
COLOR:
URL;VALUE=URI:https://peda.net/lohja/varhaiskasvatus/vs/pkonnenomena/gruppe
 r/punaposket/punaposkien-kalenteri/kirjastoauto
SEQUENCE:0
END:VEVENT
BEGIN:VEVENT
UID:cf9450ee-7a46-11ef-bd03-428e09909083@peda.net
DTSTAMP:20260424T113114Z
CREATED:20240924T073002Z
DTSTART;TZID=Europe/Helsinki:20241004T150000
DTEND;TZID=Europe/Helsinki:20241004T160000
SUMMARY:Liikkuvat pihat tapahtuma
DESCRIPTION:
COLOR:
URL;VALUE=URI:https://peda.net/lohja/varhaiskasvatus/vs/pkonnenomena/gruppe
 r/punaposket/punaposkien-kalenteri/liikkuvat-pihat-tapahtuma
SEQUENCE:0
END:VEVENT
END:VCALENDAR
