BEGIN:VCALENDAR
VERSION:2.0
PRODID:-//Peda.net/Peda.net Calendar Module//
CALSCALE:GREGORIAN
X-WR-CALNAME:4B-luokan kalenteri
X-WR-CALDESC:https://peda.net/id/99fef9c6cb8
X-WR-RELCALID:99fef9c6-cb87-11e8-b702-86f3624c9a50@peda.net
X-WR-TIMEZONE:UTC
BEGIN:VEVENT
UID:6a600992-d466-11e9-b56e-62f3624c9a50@peda.net
DTSTAMP:20260425T021852Z
CREATED:20190911T073314Z
DTSTART;TZID=Europe/Helsinki:20191004T110000
SUMMARY:Koulukuva
DESCRIPTION:
URL;VALUE=URI:https://peda.net/joensuu/alakoulut/karhunm%C3%A4en-koulu/luok
 kien-sivut/2a/3b-luokan-kalenteri/koulukuva3
SEQUENCE:0
END:VEVENT
BEGIN:VEVENT
UID:5ad57264-d466-11e9-8d71-4631624c9a50@peda.net
DTSTAMP:20260425T021852Z
CREATED:20190911T073248Z
DTSTART;TZID=Europe/Helsinki:20191003T110000
SUMMARY:Koulukuva
DESCRIPTION:
URL;VALUE=URI:https://peda.net/joensuu/alakoulut/karhunm%C3%A4en-koulu/luok
 kien-sivut/2a/3b-luokan-kalenteri/koulukuva2
SEQUENCE:0
END:VEVENT
BEGIN:VEVENT
UID:2d25433a-d466-11e9-ae34-86f3624c9a50@peda.net
DTSTAMP:20260425T021852Z
CREATED:20190911T073132Z
DTSTART;TZID=Europe/Helsinki:20190917T101500
DTEND;TZID=Europe/Helsinki:20190917T110000
SUMMARY:Säbäesittely
DESCRIPTION:
URL;VALUE=URI:https://peda.net/joensuu/alakoulut/karhunm%C3%A4en-koulu/luok
 kien-sivut/2a/3b-luokan-kalenteri/s%C3%A4b%C3%A4esittely
SEQUENCE:0
END:VEVENT
BEGIN:VEVENT
UID:b657c4ba-d2ff-11e9-825f-86f3624c9a50@peda.net
DTSTAMP:20260425T021852Z
CREATED:20190909T124532Z
DTSTART;TZID=Europe/Helsinki:20190913T100000
SUMMARY:Matikan koe
DESCRIPTION:
URL;VALUE=URI:https://peda.net/joensuu/alakoulut/karhunm%C3%A4en-koulu/luok
 kien-sivut/2a/3b-luokan-kalenteri/matikan-koeb
SEQUENCE:0
END:VEVENT
BEGIN:VEVENT
UID:310a74b8-2f5f-11e9-8ced-4631624c9a50@peda.net
DTSTAMP:20260425T021852Z
CREATED:20190213T071550Z
DTSTART;TZID=Europe/Helsinki:20190221T101500
SUMMARY:Matikan koe
DESCRIPTION:-desimaaliluvut
URL;VALUE=URI:https://peda.net/joensuu/alakoulut/karhunm%C3%A4en-koulu/luok
 kien-sivut/2a/3b-luokan-kalenteri/matikan-koe31
SEQUENCE:0
END:VEVENT
BEGIN:VEVENT
UID:864e0c88-2f5e-11e9-8444-4631624c9a50@peda.net
DTSTAMP:20260425T021852Z
CREATED:20190213T071103Z
DTSTART;TZID=Europe/Helsinki:20190219T123000
SUMMARY:Josban säbätunti
DESCRIPTION:
URL;VALUE=URI:https://peda.net/joensuu/alakoulut/karhunm%C3%A4en-koulu/luok
 kien-sivut/2a/3b-luokan-kalenteri/josban-s%C3%A4b%C3%A4tunti
SEQUENCE:0
END:VEVENT
BEGIN:VEVENT
UID:3daa173c-2541-11e9-972a-4631624c9a50@peda.net
DTSTAMP:20260425T021852Z
CREATED:20190131T101614Z
DTSTART;TZID=Europe/Helsinki:20190206T100000
SUMMARY:Äidinkielen koe
DESCRIPTION:
URL;VALUE=URI:https://peda.net/joensuu/alakoulut/karhunm%C3%A4en-koulu/luok
 kien-sivut/2a/3b-luokan-kalenteri/%C3%A4idinkielen-koe3
SEQUENCE:0
END:VEVENT
BEGIN:VEVENT
UID:e9563b72-2467-11e9-8ea7-4631624c9a50@peda.net
DTSTAMP:20260425T021852Z
CREATED:20190130T082032Z
DTSTART;VALUE=DATE:20190411
SUMMARY:Meida Veil 9.00\, 12.00
DESCRIPTION:
URL;VALUE=URI:https://peda.net/joensuu/alakoulut/karhunm%C3%A4en-koulu/luok
 kien-sivut/2a/3b-luokan-kalenteri/mv91
SEQUENCE:0
END:VEVENT
BEGIN:VEVENT
UID:c8a47326-2462-11e9-bfcf-62f3624c9a50@peda.net
DTSTAMP:20260425T021852Z
CREATED:20190130T074350Z
DTSTART;VALUE=DATE:20190410
SUMMARY:Meida Veil 9.00\, 12.00\, 18.00
DESCRIPTION:
URL;VALUE=URI:https://peda.net/joensuu/alakoulut/karhunm%C3%A4en-koulu/luok
 kien-sivut/2a/3b-luokan-kalenteri/mv911
SEQUENCE:0
END:VEVENT
BEGIN:VEVENT
UID:a59c728e-2462-11e9-b115-62f3624c9a50@peda.net
DTSTAMP:20260425T021852Z
CREATED:20190130T074251Z
DTSTART;VALUE=DATE:20190409
SUMMARY:Meida Veil
DESCRIPTION:9.00\n12.00\n18.00
URL;VALUE=URI:https://peda.net/joensuu/alakoulut/karhunm%C3%A4en-koulu/luok
 kien-sivut/2a/3b-luokan-kalenteri/meida-veil
SEQUENCE:0
END:VEVENT
BEGIN:VEVENT
UID:7762096a-2462-11e9-8254-62f3624c9a50@peda.net
DTSTAMP:20260425T021852Z
CREATED:20190130T074133Z
DTSTART;TZID=Europe/Helsinki:20190207T124500
DTEND;TZID=Europe/Helsinki:20190207T133000
SUMMARY:Jokipoikien luistelutunti
DESCRIPTION:
URL;VALUE=URI:https://peda.net/joensuu/alakoulut/karhunm%C3%A4en-koulu/luok
 kien-sivut/2a/3b-luokan-kalenteri/jl
SEQUENCE:0
END:VEVENT
BEGIN:VEVENT
UID:4bd92076-2462-11e9-a487-4631624c9a50@peda.net
DTSTAMP:20260425T021852Z
CREATED:20190130T074020Z
DTSTART;TZID=Europe/Helsinki:20190201T100000
DTEND;TZID=Europe/Helsinki:20190201T110000
SUMMARY:Matikan koe
DESCRIPTION:
URL;VALUE=URI:https://peda.net/joensuu/alakoulut/karhunm%C3%A4en-koulu/luok
 kien-sivut/2a/3b-luokan-kalenteri/matikan-koe3
SEQUENCE:0
END:VEVENT
BEGIN:VEVENT
UID:453f1a16-fd45-11e8-80d1-86f3624c9a50@peda.net
DTSTAMP:20260425T021852Z
CREATED:20181211T130419Z
DTSTART;VALUE=DATE:20181221
SUMMARY:Koulua 9.15-12.30
DESCRIPTION:
URL;VALUE=URI:https://peda.net/joensuu/alakoulut/karhunm%C3%A4en-koulu/luok
 kien-sivut/2a/3b-luokan-kalenteri/koulua-9-15-12-30
SEQUENCE:0
END:VEVENT
BEGIN:VEVENT
UID:304cd6c0-fd45-11e8-a53b-4631624c9a50@peda.net
DTSTAMP:20260425T021852Z
CREATED:20181211T130343Z
DTSTART;VALUE=DATE:20181220
SUMMARY:Lukujärjestyksen mukaan
DESCRIPTION:
URL;VALUE=URI:https://peda.net/joensuu/alakoulut/karhunm%C3%A4en-koulu/luok
 kien-sivut/2a/3b-luokan-kalenteri/lm
SEQUENCE:0
END:VEVENT
BEGIN:VEVENT
UID:179098ce-fd45-11e8-907e-86f3624c9a50@peda.net
DTSTAMP:20260425T021852Z
CREATED:20181211T130302Z
DTSTART;VALUE=DATE:20181219
SUMMARY:Koulua 9.15-11.30
DESCRIPTION:
URL;VALUE=URI:https://peda.net/joensuu/alakoulut/karhunm%C3%A4en-koulu/luok
 kien-sivut/2a/3b-luokan-kalenteri/koulua-9-15-11-30
SEQUENCE:0
END:VEVENT
BEGIN:VEVENT
UID:fc98abd8-fd44-11e8-808b-4631624c9a50@peda.net
DTSTAMP:20260425T021852Z
CREATED:20181211T130217Z
DTSTART;VALUE=DATE:20181218
SUMMARY:Koulua 8.30-12.30
DESCRIPTION:
URL;VALUE=URI:https://peda.net/joensuu/alakoulut/karhunm%C3%A4en-koulu/luok
 kien-sivut/2a/3b-luokan-kalenteri/koulua-8-30-12-30
SEQUENCE:0
END:VEVENT
BEGIN:VEVENT
UID:e036f53a-fd44-11e8-b63b-86f3624c9a50@peda.net
DTSTAMP:20260425T021852Z
CREATED:20181211T130129Z
DTSTART;VALUE=DATE:20181213
SUMMARY:Pajapäivä
DESCRIPTION:
URL;VALUE=URI:https://peda.net/joensuu/alakoulut/karhunm%C3%A4en-koulu/luok
 kien-sivut/2a/3b-luokan-kalenteri/pajap%C3%A4iv%C3%A4
SEQUENCE:0
END:VEVENT
BEGIN:VEVENT
UID:8098abbe-eccd-11e8-bf49-4631624c9a50@peda.net
DTSTAMP:20260425T021852Z
CREATED:20181120T140640Z
DTSTART;VALUE=DATE:20181217
SUMMARY:8.30-12.30 koulua
DESCRIPTION:
URL;VALUE=URI:https://peda.net/joensuu/alakoulut/karhunm%C3%A4en-koulu/luok
 kien-sivut/2a/3b-luokan-kalenteri/8-30-12-30-koulua
SEQUENCE:0
END:VEVENT
BEGIN:VEVENT
UID:507916b2-eccd-11e8-bed4-62f3624c9a50@peda.net
DTSTAMP:20260425T021852Z
CREATED:20181120T140519Z
DTSTART;VALUE=DATE:20181130
SUMMARY:Pinkki perjantai
DESCRIPTION:
URL;VALUE=URI:https://peda.net/joensuu/alakoulut/karhunm%C3%A4en-koulu/luok
 kien-sivut/2a/3b-luokan-kalenteri/pinkki-perjantai
SEQUENCE:0
END:VEVENT
BEGIN:VEVENT
UID:4103504e-eccd-11e8-b549-4631624c9a50@peda.net
DTSTAMP:20260425T021852Z
CREATED:20181120T140453Z
DTSTART;VALUE=DATE:20181129
SUMMARY:Harmaa torstai
DESCRIPTION:
URL;VALUE=URI:https://peda.net/joensuu/alakoulut/karhunm%C3%A4en-koulu/luok
 kien-sivut/2a/3b-luokan-kalenteri/harmaa-torstai
SEQUENCE:0
END:VEVENT
BEGIN:VEVENT
UID:31828d4c-eccd-11e8-96be-86f3624c9a50@peda.net
DTSTAMP:20260425T021852Z
CREATED:20181120T140427Z
DTSTART;VALUE=DATE:20181128
SUMMARY:Sininen keskiviikko
DESCRIPTION:
URL;VALUE=URI:https://peda.net/joensuu/alakoulut/karhunm%C3%A4en-koulu/luok
 kien-sivut/2a/3b-luokan-kalenteri/sininen-keskiviikko
SEQUENCE:0
END:VEVENT
BEGIN:VEVENT
UID:09810ab2-eccd-11e8-8708-86f3624c9a50@peda.net
DTSTAMP:20260425T021852Z
CREATED:20181120T140320Z
DTSTART;VALUE=DATE:20181126
SUMMARY:Musta maanantai
DESCRIPTION:
URL;VALUE=URI:https://peda.net/joensuu/alakoulut/karhunm%C3%A4en-koulu/luok
 kien-sivut/2a/3b-luokan-kalenteri/musta-maanantai
SEQUENCE:0
END:VEVENT
BEGIN:VEVENT
UID:55f3dfe4-e991-11e8-bbda-62f3624c9a50@peda.net
DTSTAMP:20260425T021852Z
CREATED:20181116T111825Z
DTSTART;TZID=Europe/Helsinki:20181128T091500
SUMMARY:Matikan koe
DESCRIPTION:
URL;VALUE=URI:https://peda.net/joensuu/alakoulut/karhunm%C3%A4en-koulu/luok
 kien-sivut/2a/3b-luokan-kalenteri/matikan-koe2
SEQUENCE:0
END:VEVENT
BEGIN:VEVENT
UID:d1b13656-ddaa-11e8-9839-86f3624c9a50@peda.net
DTSTAMP:20260425T021852Z
CREATED:20181101T075036Z
DTSTART;VALUE=DATE:20181207
SUMMARY:VAPAA
DESCRIPTION:
URL;VALUE=URI:https://peda.net/joensuu/alakoulut/karhunm%C3%A4en-koulu/luok
 kien-sivut/2a/3b-luokan-kalenteri/vapaa
SEQUENCE:1
END:VEVENT
BEGIN:VEVENT
UID:8a1bdd1e-d918-11e8-a800-62f3624c9a50@peda.net
DTSTAMP:20260425T021852Z
CREATED:20181026T121325Z
DTSTART;TZID=Europe/Helsinki:20181030T180000
DTEND;TZID=Europe/Helsinki:20181030T200000
SUMMARY:Halloween-juhlat
DESCRIPTION:
URL;VALUE=URI:https://peda.net/joensuu/alakoulut/karhunm%C3%A4en-koulu/luok
 kien-sivut/2a/3b-luokan-kalenteri/halloween-juhlat
SEQUENCE:0
END:VEVENT
BEGIN:VEVENT
UID:982e546a-d781-11e8-bc3a-86f3624c9a50@peda.net
DTSTAMP:20260425T021852Z
CREATED:20181024T114023Z
DTSTART;TZID=Europe/Helsinki:20181031T114500
SUMMARY:Matikan koe
DESCRIPTION:
URL;VALUE=URI:https://peda.net/joensuu/alakoulut/karhunm%C3%A4en-koulu/luok
 kien-sivut/2a/3b-luokan-kalenteri/matikan-koe
SEQUENCE:0
END:VEVENT
BEGIN:VEVENT
UID:5eb33a98-d781-11e8-a028-4631624c9a50@peda.net
DTSTAMP:20260425T021852Z
CREATED:20181024T113847Z
DTSTART;TZID=Europe/Helsinki:20181026T110000
SUMMARY:Kirjastoauto
DESCRIPTION:
URL;VALUE=URI:https://peda.net/joensuu/alakoulut/karhunm%C3%A4en-koulu/luok
 kien-sivut/2a/3b-luokan-kalenteri/kirjastoauto
SEQUENCE:0
END:VEVENT
BEGIN:VEVENT
UID:28ffbaae-cb90-11e8-803b-62f3624c9a50@peda.net
DTSTAMP:20260425T021852Z
CREATED:20181009T065425Z
DTSTART;VALUE=DATE:20181009
SUMMARY:Koristurnaus
DESCRIPTION:
URL;VALUE=URI:https://peda.net/joensuu/alakoulut/karhunm%C3%A4en-koulu/luok
 kien-sivut/2a/3b-luokan-kalenteri/koristurnaus
SEQUENCE:0
END:VEVENT
BEGIN:VEVENT
UID:9f443ffc-cb89-11e8-bbc6-86f3624c9a50@peda.net
DTSTAMP:20260425T021852Z
CREATED:20181009T060737Z
DTSTART;TZID=Europe/Helsinki:20181219T180000
SUMMARY:Joulujuhla
DESCRIPTION:
URL;VALUE=URI:https://peda.net/joensuu/alakoulut/karhunm%C3%A4en-koulu/luok
 kien-sivut/2a/3b-luokan-kalenteri/joulujuhla
SEQUENCE:0
END:VEVENT
BEGIN:VEVENT
UID:73e929c6-cb89-11e8-970f-62f3624c9a50@peda.net
DTSTAMP:20260425T021852Z
CREATED:20181009T060625Z
DTSTART;TZID=Europe/Helsinki:20181011T130000
SUMMARY:Yksityiskuvat
DESCRIPTION:
URL;VALUE=URI:https://peda.net/joensuu/alakoulut/karhunm%C3%A4en-koulu/luok
 kien-sivut/2a/3b-luokan-kalenteri/yksityiskuvat
SEQUENCE:0
END:VEVENT
BEGIN:VEVENT
UID:1e9a49d2-cb89-11e8-adef-86f3624c9a50@peda.net
DTSTAMP:20260425T021852Z
CREATED:20181009T060401Z
DTSTART;VALUE=DATE:20181015
DTEND;VALUE=DATE:20181020
SUMMARY:SYYSLOMA
DESCRIPTION:
URL;VALUE=URI:https://peda.net/joensuu/alakoulut/karhunm%C3%A4en-koulu/luok
 kien-sivut/2a/3b-luokan-kalenteri/syysloma
SEQUENCE:0
END:VEVENT
BEGIN:VEVENT
UID:cd75cc20-cb88-11e8-99c9-86f3624c9a50@peda.net
DTSTAMP:20260425T021852Z
CREATED:20181009T060145Z
DTSTART;VALUE=DATE:20181114
SUMMARY:Uimahalli
DESCRIPTION:
URL;VALUE=URI:https://peda.net/joensuu/alakoulut/karhunm%C3%A4en-koulu/luok
 kien-sivut/2a/3b-luokan-kalenteri/uimahalli3
SEQUENCE:0
END:VEVENT
BEGIN:VEVENT
UID:b1ff5a7e-cb88-11e8-ad30-4631624c9a50@peda.net
DTSTAMP:20260425T021852Z
CREATED:20181009T060059Z
DTSTART;VALUE=DATE:20181107
SUMMARY:Uimahalli
DESCRIPTION:
URL;VALUE=URI:https://peda.net/joensuu/alakoulut/karhunm%C3%A4en-koulu/luok
 kien-sivut/2a/3b-luokan-kalenteri/uimahalli2
SEQUENCE:1
END:VEVENT
BEGIN:VEVENT
UID:98d891b4-cb88-11e8-95a5-4631624c9a50@peda.net
DTSTAMP:20260425T021852Z
CREATED:20181009T060017Z
DTSTART;TZID=Europe/Helsinki:20181031T093000
SUMMARY:Uimahalli
DESCRIPTION:
URL;VALUE=URI:https://peda.net/joensuu/alakoulut/karhunm%C3%A4en-koulu/luok
 kien-sivut/2a/3b-luokan-kalenteri/uimahalli
SEQUENCE:2
END:VEVENT
BEGIN:VEVENT
UID:01b0874c-cb88-11e8-857b-4631624c9a50@peda.net
DTSTAMP:20260425T021852Z
CREATED:20181009T055603Z
DTSTART;TZID=Europe/Helsinki:20181023T124500
SUMMARY:Motoran pajat
DESCRIPTION:
URL;VALUE=URI:https://peda.net/joensuu/alakoulut/karhunm%C3%A4en-koulu/luok
 kien-sivut/2a/3b-luokan-kalenteri/motoran-tanssipajat
SEQUENCE:2
END:VEVENT
BEGIN:VEVENT
UID:b7abf636-cb87-11e8-8228-62f3624c9a50@peda.net
DTSTAMP:20260425T021852Z
CREATED:20181009T055359Z
DTSTART;TZID=Europe/Helsinki:20181011T090000
SUMMARY:Luokkakuva
DESCRIPTION:
URL;VALUE=URI:https://peda.net/joensuu/alakoulut/karhunm%C3%A4en-koulu/luok
 kien-sivut/2a/3b-luokan-kalenteri/koulukuva
SEQUENCE:1
END:VEVENT
END:VCALENDAR
