BEGIN:VCALENDAR
VERSION:2.0
PRODID:-//Peda.net/Peda.net Calendar Module//
CALSCALE:GREGORIAN
X-WR-CALNAME:
X-WR-CALDESC:https://peda.net/id/88c0df26483
X-WR-RELCALID:88c0df26-483f-11f0-9199-0a80e88c6005@peda.net
X-WR-TIMEZONE:UTC
BEGIN:VEVENT
UID:0c5e99b0-3e10-11f1-9183-428e09909083@peda.net
DTSTAMP:20260425T194552Z
CREATED:20260422T055647Z
DTSTART;TZID=Europe/Helsinki:20260518T173000
DTEND;TZID=Europe/Helsinki:20260518T183000
SUMMARY:Tilhien Kevätjuhla
DESCRIPTION:
COLOR:white
URL;VALUE=URI:https://peda.net/somero/varhaiskasvatus/paivakodit/leivonpesa
 n-paivakoti/ryhmat/tilhet/kalenteri/tilhien-kevatjuhla
SEQUENCE:0
END:VEVENT
BEGIN:VEVENT
UID:1c132cda-2840-11f1-ad72-6e9f894da45d@peda.net
DTSTAMP:20260425T194552Z
CREATED:20260325T114523Z
DTSTART;TZID=Europe/Helsinki:20260522T090000
DTEND;TZID=Europe/Helsinki:20260522T123000
SUMMARY:Kevätretki
DESCRIPTION:
COLOR:white
URL;VALUE=URI:https://peda.net/somero/varhaiskasvatus/paivakodit/leivonpesa
 n-paivakoti/ryhmat/tilhet/kalenteri/kevatretki
SEQUENCE:0
END:VEVENT
BEGIN:VEVENT
UID:fe50022c-283f-11f1-a072-6e9f894da45d@peda.net
DTSTAMP:20260425T194552Z
CREATED:20260325T114433Z
DTSTART;TZID=Europe/Helsinki:20260414T100000
DTEND;TZID=Europe/Helsinki:20260414T110000
SUMMARY:Viiru ja Pesonen monarilla
DESCRIPTION:
COLOR:white
URL;VALUE=URI:https://peda.net/somero/varhaiskasvatus/paivakodit/leivonpesa
 n-paivakoti/ryhmat/tilhet/kalenteri/viiru-ja-pesonen-monarilla
SEQUENCE:0
END:VEVENT
BEGIN:VEVENT
UID:f19b3db2-283f-11f1-9194-0a80e88c6005@peda.net
DTSTAMP:20260425T194552Z
CREATED:20260325T114412Z
DTSTART;TZID=Europe/Helsinki:20260428T100000
DTEND;TZID=Europe/Helsinki:20260428T110000
SUMMARY:Musiikkikonsertti Sini ja Simi monarilla
DESCRIPTION:
COLOR:white
URL;VALUE=URI:https://peda.net/somero/varhaiskasvatus/paivakodit/leivonpesa
 n-paivakoti/ryhmat/tilhet/kalenteri/musiikkikonsertti-sini-ja-simi-monaril
 la
SEQUENCE:0
END:VEVENT
BEGIN:VEVENT
UID:b033c078-1959-11f1-a029-0a80e88c6005@peda.net
DTSTAMP:20260425T194552Z
CREATED:20260306T124042Z
DTSTART;TZID=Europe/Helsinki:20260520T090000
DTEND;TZID=Europe/Helsinki:20260520T110000
SUMMARY:Kirkkokävely
DESCRIPTION:
COLOR:white
URL;VALUE=URI:https://peda.net/somero/varhaiskasvatus/paivakodit/leivonpesa
 n-paivakoti/ryhmat/tilhet/kalenteri/kirkkokavely
SEQUENCE:0
END:VEVENT
BEGIN:VEVENT
UID:98e97746-1959-11f1-8151-428e09909083@peda.net
DTSTAMP:20260425T194552Z
CREATED:20260306T124003Z
DTSTART;TZID=Europe/Helsinki:20260325T090000
DTEND;TZID=Europe/Helsinki:20260325T100000
SUMMARY:Jumppaa monarilla! Lähtö 8.30
DESCRIPTION:
COLOR:white
URL;VALUE=URI:https://peda.net/somero/varhaiskasvatus/paivakodit/leivonpesa
 n-paivakoti/ryhmat/tilhet/kalenteri/jumppaa-monarilla-lahto-8.30
SEQUENCE:0
END:VEVENT
BEGIN:VEVENT
UID:3512f15e-f085-11f0-a78f-6e9f894da45d@peda.net
DTSTAMP:20260425T194552Z
CREATED:20260113T133856Z
DTSTART;TZID=Europe/Helsinki:20260127T090000
DTEND;TZID=Europe/Helsinki:20260127T110000
SUMMARY:Luistelua jäähallissa
DESCRIPTION:
COLOR:white
URL;VALUE=URI:https://peda.net/somero/varhaiskasvatus/paivakodit/leivonpesa
 n-paivakoti/ryhmat/tilhet/kalenteri/luistelua-jaahallissa
SEQUENCE:0
END:VEVENT
BEGIN:VEVENT
UID:289630e4-f085-11f0-819a-6e9f894da45d@peda.net
DTSTAMP:20260425T194552Z
CREATED:20260113T133835Z
DTSTART;TZID=Europe/Helsinki:20260126T090000
DTEND;TZID=Europe/Helsinki:20260126T110000
SUMMARY:Luistelu jäähallissa
DESCRIPTION:
COLOR:white
URL;VALUE=URI:https://peda.net/somero/varhaiskasvatus/paivakodit/leivonpesa
 n-paivakoti/ryhmat/tilhet/kalenteri/luistelu-jaahallissa
SEQUENCE:0
END:VEVENT
BEGIN:VEVENT
UID:99b49008-df10-11f0-8e6c-0a80e88c6005@peda.net
DTSTAMP:20260425T194552Z
CREATED:20251222T083123Z
DTSTART;TZID=Europe/Helsinki:20251222T110000
DTEND;TZID=Europe/Helsinki:20260106T120000
SUMMARY:Leivonpesä kiinni
DESCRIPTION:
COLOR:white
URL;VALUE=URI:https://peda.net/somero/varhaiskasvatus/paivakodit/leivonpesa
 n-paivakoti/ryhmat/tilhet/kalenteri/leivonpesa-kiinni2
SEQUENCE:0
END:VEVENT
BEGIN:VEVENT
UID:d0daee8e-9f7c-11f0-835a-6e9f894da45d@peda.net
DTSTAMP:20260425T194552Z
CREATED:20251002T104447Z
DTSTART;TZID=Europe/Helsinki:20251209T100000
DTEND;TZID=Europe/Helsinki:20251209T110000
SUMMARY:Mimmit- joulukonsertti monarilla.
DESCRIPTION:
COLOR:
URL;VALUE=URI:https://peda.net/somero/varhaiskasvatus/paivakodit/leivonpesa
 n-paivakoti/ryhmat/tilhet/kalenteri/mimmit-joulukonsertti-monarilla
SEQUENCE:0
END:VEVENT
BEGIN:VEVENT
UID:aa36e5ee-9f7c-11f0-a14c-6e9f894da45d@peda.net
DTSTAMP:20260425T194552Z
CREATED:20251002T104342Z
DTSTART;VALUE=DATE:20251008
DTEND;VALUE=DATE:20251009
SUMMARY:Kävelyretki. LÄHTÖ KLO 9!!
DESCRIPTION:
COLOR:
URL;VALUE=URI:https://peda.net/somero/varhaiskasvatus/paivakodit/leivonpesa
 n-paivakoti/ryhmat/tilhet/kalenteri/kavelyretki.-lahto-klo-9
SEQUENCE:0
END:VEVENT
BEGIN:VEVENT
UID:e99ee850-9f7a-11f0-92c9-0a80e88c6005@peda.net
DTSTAMP:20260425T194552Z
CREATED:20251002T103110Z
DTSTART;TZID=Europe/Helsinki:20251112T180000
DTEND;TZID=Europe/Helsinki:20251112T200000
SUMMARY:Piia Penttalan luento monarilla
DESCRIPTION:
COLOR:
URL;VALUE=URI:https://peda.net/somero/varhaiskasvatus/paivakodit/leivonpesa
 n-paivakoti/ryhmat/tilhet/kalenteri/piia-penttalan-luento-monarilla
SEQUENCE:0
END:VEVENT
BEGIN:VEVENT
UID:342c98f8-9dc4-11f0-97bd-6e9f894da45d@peda.net
DTSTAMP:20260425T194552Z
CREATED:20250930T061046Z
DTSTART;VALUE=DATE:20251013
DTEND;VALUE=DATE:20251018
SUMMARY:Syysloma. Leivonpesä kiinni.
DESCRIPTION:
COLOR:
URL;VALUE=URI:https://peda.net/somero/varhaiskasvatus/paivakodit/leivonpesa
 n-paivakoti/ryhmat/tilhet/kalenteri/syysloma.-leivonpesa-kiinni
SEQUENCE:0
END:VEVENT
BEGIN:VEVENT
UID:c8d3581e-8f93-11f0-ac1a-6e9f894da45d@peda.net
DTSTAMP:20260425T194552Z
CREATED:20250912T044854Z
DTSTART;TZID=Europe/Helsinki:20251006T100000
DTEND;TZID=Europe/Helsinki:20251006T110000
SUMMARY:Molli ja maanääri monarilla
DESCRIPTION:
COLOR:
URL;VALUE=URI:https://peda.net/somero/varhaiskasvatus/paivakodit/leivonpesa
 n-paivakoti/ryhmat/tilhet/kalenteri/molli-ja-maanaari-monarilla
SEQUENCE:0
END:VEVENT
BEGIN:VEVENT
UID:9e5662fc-8f93-11f0-b188-428e09909083@peda.net
DTSTAMP:20260425T194552Z
CREATED:20250912T044742Z
DTSTART;VALUE=DATE:20251002
DTEND;VALUE=DATE:20251003
SUMMARY:VALOKUVAUS
DESCRIPTION:
COLOR:
URL;VALUE=URI:https://peda.net/somero/varhaiskasvatus/paivakodit/leivonpesa
 n-paivakoti/ryhmat/tilhet/kalenteri/valokuvaus
SEQUENCE:0
END:VEVENT
BEGIN:VEVENT
UID:49792b80-8f92-11f0-bf9b-0a80e88c6005@peda.net
DTSTAMP:20260425T194552Z
CREATED:20250912T043810Z
DTSTART;TZID=Europe/Helsinki:20250924T084500
DTEND;TZID=Europe/Helsinki:20250924T110000
SUMMARY:Retki Torronsuolle Huopahattujen kanssa
DESCRIPTION:
COLOR:
URL;VALUE=URI:https://peda.net/somero/varhaiskasvatus/paivakodit/leivonpesa
 n-paivakoti/ryhmat/tilhet/kalenteri/retki-torronsuolle-huopahattujen-kanss
 a
SEQUENCE:0
END:VEVENT
BEGIN:VEVENT
UID:f79452ce-7cf2-11f0-8578-0a80e88c6005@peda.net
DTSTAMP:20260425T194552Z
CREATED:20250819T115222Z
DTSTART;VALUE=DATE:20251210
DTEND;VALUE=DATE:20251211
SUMMARY:Koko leivonpesän yhteinen joulujuhla
DESCRIPTION:
COLOR:
URL;VALUE=URI:https://peda.net/somero/varhaiskasvatus/paivakodit/leivonpesa
 n-paivakoti/ryhmat/tilhet/kalenteri/koko-leivonpesan-yhteinen-joulujuhla
SEQUENCE:0
END:VEVENT
BEGIN:VEVENT
UID:4c9f7dba-7cef-11f0-ad3b-428e09909083@peda.net
DTSTAMP:20260425T194552Z
CREATED:20250819T112607Z
DTSTART;TZID=Europe/Helsinki:20250909T173000
DTEND;TZID=Europe/Helsinki:20250909T183000
SUMMARY:Vanhempainilta
DESCRIPTION:
COLOR:
URL;VALUE=URI:https://peda.net/somero/varhaiskasvatus/paivakodit/leivonpesa
 n-paivakoti/ryhmat/tilhet/kalenteri/vanhempainilta
SEQUENCE:0
END:VEVENT
BEGIN:VEVENT
UID:41621cfa-7cef-11f0-a74f-6e9f894da45d@peda.net
DTSTAMP:20260425T194552Z
CREATED:20250819T112548Z
DTSTART;TZID=Europe/Helsinki:20250901T170000
DTEND;TZID=Europe/Helsinki:20250901T190000
SUMMARY:Koko perheen liikuntatapahtuma urheilukentällä
DESCRIPTION:
COLOR:
URL;VALUE=URI:https://peda.net/somero/varhaiskasvatus/paivakodit/leivonpesa
 n-paivakoti/ryhmat/tilhet/kalenteri/koko-perheen-liikuntatapahtuma-urheilu
 kentalla
SEQUENCE:0
END:VEVENT
BEGIN:VEVENT
UID:a9b37c98-483f-11f0-b4a3-428e09909083@peda.net
DTSTAMP:20260425T194552Z
CREATED:20250613T101751Z
DTSTART;VALUE=DATE:20250623
DTEND;VALUE=DATE:20250804
SUMMARY:Leivonpesä KIINNI
DESCRIPTION:
COLOR:
URL;VALUE=URI:https://peda.net/somero/varhaiskasvatus/paivakodit/leivonpesa
 n-paivakoti/ryhmat/tilhet/kalenteri/leivonpesa-kiinni
SEQUENCE:0
END:VEVENT
END:VCALENDAR
