BEGIN:VCALENDAR
VERSION:2.0
PRODID:-//Peda.net/Peda.net Calendar Module//
CALSCALE:GREGORIAN
X-WR-CALNAME:3.-4.luokan kalenteri
X-WR-CALDESC:https://peda.net/id/7869404e57c
X-WR-RELCALID:7869404e-57c4-11ea-831b-509a4c62f362@peda.net
X-WR-TIMEZONE:UTC
BEGIN:VEVENT
UID:a8f00a34-e716-11ec-911b-f8f21e980f51@peda.net
DTSTAMP:20260425T210757Z
CREATED:20220608T103505Z
DTSTART;TZID=Europe/Helsinki:20220810T083100
DTEND;TZID=Europe/Helsinki:20220810T150000
SUMMARY:Koulu alkaa 8.30
DESCRIPTION:
URL;VALUE=URI:https://peda.net/iisalmi/peruskoulut/alakoulut/hernejarvi/opp
 ilaat/luokat/3-4-luokka/3k/koulu-alkaa-8.30
SEQUENCE:0
END:VEVENT
END:VCALENDAR
