BEGIN:VCALENDAR
VERSION:2.0
PRODID:-//Peda.net/Peda.net Calendar Module//
CALSCALE:GREGORIAN
X-WR-CALNAME:Äidinkielen ja ilmaisutaidon tärkeät päivämäärät
X-WR-CALDESC:https://peda.net/id/6d90970cf
X-WR-RELCALID:6d90970c-f226-11e4-bca3-bc5ff4fb038b@peda.net
X-WR-TIMEZONE:UTC
BEGIN:VEVENT
UID:a318b19e-de45-11e7-b771-4631624c9a50@peda.net
DTSTAMP:20260425T220718Z
CREATED:20171211T073352Z
DTSTART;TZID=Europe/Helsinki:20171221T140000
SUMMARY:Kenraaliharjoitukset
DESCRIPTION:Ilmaisutaitoesitysten kenraaliharjoitukset juhlasalissa
URL;VALUE=URI:https://peda.net/nivala/perusopetus/niva-kaijankoulu/oppiaine
 et/%C3%A4idinkieli/saija-pynssi/tp/k
SEQUENCE:1
END:VEVENT
BEGIN:VEVENT
UID:f9ebb2a2-61e0-11e5-bffd-bc5ff4fb038b@peda.net
DTSTAMP:20260425T220718Z
CREATED:20150923T105059Z
DTSTART;TZID=Europe/Helsinki:20151015T130000
SUMMARY:7E kirja
DESCRIPTION:
URL;VALUE=URI:https://peda.net/nivala/perusopetus/niva-kaijankoulu/oppiaine
 et/%C3%A4idinkieli/saija-pynssi/tp/7e-kirja
SEQUENCE:0
END:VEVENT
BEGIN:VEVENT
UID:7f3d114a-7e54-11e6-a5bf-d102fbf45fbc@peda.net
DTSTAMP:20260425T220718Z
CREATED:20160919T103325Z
DTSTART;TZID=Europe/Helsinki:20160919T140000
SUMMARY:7E: Sherlock Holmes
DESCRIPTION:
URL;VALUE=URI:https://peda.net/nivala/perusopetus/niva-kaijankoulu/oppiaine
 et/%C3%A4idinkieli/saija-pynssi/tp/7e-sherlock-holmes
SEQUENCE:0
END:VEVENT
BEGIN:VEVENT
UID:1219da48-61e1-11e5-be5f-bc5ff4fb02d1@peda.net
DTSTAMP:20260425T220718Z
CREATED:20150923T105140Z
DTSTART;TZID=Europe/Helsinki:20151006T090000
SUMMARY:7F kirja
DESCRIPTION:
URL;VALUE=URI:https://peda.net/nivala/perusopetus/niva-kaijankoulu/oppiaine
 et/%C3%A4idinkieli/saija-pynssi/tp/7f-kirja
SEQUENCE:0
END:VEVENT
BEGIN:VEVENT
UID:55e593c6-5b8c-11e5-bcda-bc5ff4fb02d1@peda.net
DTSTAMP:20260425T220718Z
CREATED:20150915T092959Z
DTSTART;TZID=Europe/Helsinki:20151001T140000
SUMMARY:7G kirjaesitykset
DESCRIPTION:Kirjaesitykset: kirjailija\, pää- ja sivuhenkilöt\, juoni\, 
 suosittelut
URL;VALUE=URI:https://peda.net/nivala/perusopetus/niva-kaijankoulu/oppiaine
 et/%C3%A4idinkieli/saija-pynssi/tp/7g-kirjaesitykset
SEQUENCE:1
END:VEVENT
BEGIN:VEVENT
UID:8b127082-7e54-11e6-8c04-8b03fbf45fbc@peda.net
DTSTAMP:20260425T220718Z
CREATED:20160919T103345Z
DTSTART;TZID=Europe/Helsinki:20160912T140000
SUMMARY:7G: Sherlock Holmes
DESCRIPTION:
URL;VALUE=URI:https://peda.net/nivala/perusopetus/niva-kaijankoulu/oppiaine
 et/%C3%A4idinkieli/saija-pynssi/tp/7g-sherlock-holmes
SEQUENCE:1
END:VEVENT
BEGIN:VEVENT
UID:8407f198-516b-11e5-8f10-bc5ff4fb02f9@peda.net
DTSTAMP:20260425T220718Z
CREATED:20150902T120952Z
DTSTART;TZID=Europe/Helsinki:20150928T150000
SUMMARY:8B Kirjaesitelmät alkavat
DESCRIPTION:Lue kirjaesitelmän ohjeet ja valmistaudu esittelemään lukema
 asi. 
URL;VALUE=URI:https://peda.net/nivala/perusopetus/niva-kaijankoulu/oppiaine
 et/%C3%A4idinkieli/saija-pynssi/tp/8ka
SEQUENCE:1
END:VEVENT
BEGIN:VEVENT
UID:d1f53728-61e0-11e5-9c20-bc5ff4fb038b@peda.net
DTSTAMP:20260425T220718Z
CREATED:20150923T104952Z
DTSTART;TZID=Europe/Helsinki:20150930T140000
SUMMARY:8B koe
DESCRIPTION:
URL;VALUE=URI:https://peda.net/nivala/perusopetus/niva-kaijankoulu/oppiaine
 et/%C3%A4idinkieli/saija-pynssi/tp/8b-koe
SEQUENCE:0
END:VEVENT
BEGIN:VEVENT
UID:ae988e10-7e54-11e6-adea-8b03fbf45fbc@peda.net
DTSTAMP:20260425T220718Z
CREATED:20160919T103445Z
DTSTART;TZID=Europe/Helsinki:20161010T110000
SUMMARY:8E: kirja
DESCRIPTION:
URL;VALUE=URI:https://peda.net/nivala/perusopetus/niva-kaijankoulu/oppiaine
 et/%C3%A4idinkieli/saija-pynssi/tp/8e-kirja
SEQUENCE:1
END:VEVENT
BEGIN:VEVENT
UID:6c036476-7e54-11e6-a74f-4d04fbf45fbc@peda.net
DTSTAMP:20260425T220718Z
CREATED:20160919T103253Z
DTSTART;TZID=Europe/Helsinki:20160920T100000
SUMMARY:8E: koe
DESCRIPTION:
URL;VALUE=URI:https://peda.net/nivala/perusopetus/niva-kaijankoulu/oppiaine
 et/%C3%A4idinkieli/saija-pynssi/tp/8e-koe
SEQUENCE:0
END:VEVENT
BEGIN:VEVENT
UID:5120117c-7e54-11e6-9a57-4d04fbf45fbc@peda.net
DTSTAMP:20260425T220718Z
CREATED:20160919T103208Z
DTSTART;TZID=Europe/Helsinki:20160923T080000
SUMMARY:8G: koe
DESCRIPTION:
URL;VALUE=URI:https://peda.net/nivala/perusopetus/niva-kaijankoulu/oppiaine
 et/%C3%A4idinkieli/saija-pynssi/tp/8g-koe
SEQUENCE:0
END:VEVENT
BEGIN:VEVENT
UID:2915500c-7e54-11e6-be23-8b03fbf45fbc@peda.net
DTSTAMP:20260425T220718Z
CREATED:20160919T103101Z
DTSTART;TZID=Europe/Helsinki:20160929T090000
SUMMARY:9B: Kalevala-tehtäväpaketti
DESCRIPTION:
URL;VALUE=URI:https://peda.net/nivala/perusopetus/niva-kaijankoulu/oppiaine
 et/%C3%A4idinkieli/saija-pynssi/tp/9k
SEQUENCE:1
END:VEVENT
BEGIN:VEVENT
UID:ded5d38a-7e54-11e6-8c68-d102fbf45fbc@peda.net
DTSTAMP:20260425T220718Z
CREATED:20160919T103606Z
DTSTART;TZID=Europe/Helsinki:20161018T120000
SUMMARY:9B: TET-raportti
DESCRIPTION:
URL;VALUE=URI:https://peda.net/nivala/perusopetus/niva-kaijankoulu/oppiaine
 et/%C3%A4idinkieli/saija-pynssi/tp/9b-tet-raportti
SEQUENCE:0
END:VEVENT
BEGIN:VEVENT
UID:36f81c4e-61e1-11e5-b39e-bc5ff4fb02d1@peda.net
DTSTAMP:20260425T220718Z
CREATED:20150923T105242Z
DTSTART;TZID=Europe/Helsinki:20151027T130000
SUMMARY:9D kirja
DESCRIPTION:
URL;VALUE=URI:https://peda.net/nivala/perusopetus/niva-kaijankoulu/oppiaine
 et/%C3%A4idinkieli/saija-pynssi/tp/9d-kirja
SEQUENCE:0
END:VEVENT
BEGIN:VEVENT
UID:5d176c32-7e54-11e6-b2a3-8b03fbf45fbc@peda.net
DTSTAMP:20260425T220718Z
CREATED:20160919T103228Z
DTSTART;TZID=Europe/Helsinki:20160923T100000
SUMMARY:9F: koe
DESCRIPTION:
URL;VALUE=URI:https://peda.net/nivala/perusopetus/niva-kaijankoulu/oppiaine
 et/%C3%A4idinkieli/saija-pynssi/tp/9f-koe
SEQUENCE:0
END:VEVENT
BEGIN:VEVENT
UID:eb1861b2-7e54-11e6-91c3-4d04fbf45fbc@peda.net
DTSTAMP:20260425T220718Z
CREATED:20160919T103626Z
DTSTART;TZID=Europe/Helsinki:20161019T120000
SUMMARY:9F: TET-raportti
DESCRIPTION:
URL;VALUE=URI:https://peda.net/nivala/perusopetus/niva-kaijankoulu/oppiaine
 et/%C3%A4idinkieli/saija-pynssi/tp/9f-tet-raportti
SEQUENCE:0
END:VEVENT
BEGIN:VEVENT
UID:4ba94b36-61e1-11e5-bffd-bc5ff4fb038b@peda.net
DTSTAMP:20260425T220718Z
CREATED:20150923T105316Z
DTSTART;TZID=Europe/Helsinki:20151028T130000
SUMMARY:9G kirja
DESCRIPTION:
URL;VALUE=URI:https://peda.net/nivala/perusopetus/niva-kaijankoulu/oppiaine
 et/%C3%A4idinkieli/saija-pynssi/tp/9g-kirja
SEQUENCE:0
END:VEVENT
BEGIN:VEVENT
UID:b935e11a-61e0-11e5-82f7-bc5ff4fb038b@peda.net
DTSTAMP:20260425T220718Z
CREATED:20150923T104911Z
DTSTART;TZID=Europe/Helsinki:20151007T130000
SUMMARY:9G koe
DESCRIPTION:
URL;VALUE=URI:https://peda.net/nivala/perusopetus/niva-kaijankoulu/oppiaine
 et/%C3%A4idinkieli/saija-pynssi/tp/9g-koe
SEQUENCE:0
END:VEVENT
BEGIN:VEVENT
UID:bf14e00a-eebf-11e6-9800-4d04fbf45fbc@peda.net
DTSTAMP:20260425T220718Z
CREATED:20170209T120319Z
DTSTART;VALUE=DATE:20170228
SUMMARY:Kalevalan päivä
DESCRIPTION:Ilmaisutaidon oppilaat kiertävät luokissa Kalevalan runojen k
 anssa. 
URL;VALUE=URI:https://peda.net/nivala/perusopetus/niva-kaijankoulu/oppiaine
 et/%C3%A4idinkieli/saija-pynssi/tp/kalevalan-p%C3%A4iv%C3%A4
SEQUENCE:0
END:VEVENT
END:VCALENDAR
