BEGIN:VCALENDAR
VERSION:2.0
PRODID:-//Peda.net/Peda.net Calendar Module//
CALSCALE:GREGORIAN
X-WR-CALNAME:KALENTERI
X-WR-CALDESC:https://peda.net/id/65e79794be0
X-WR-RELCALID:65e79794-be03-11e6-b02a-4d04fbf45fbc@peda.net
X-WR-TIMEZONE:UTC
BEGIN:VEVENT
UID:1e277fe2-5c3f-11e8-830d-4631624c9a50@peda.net
DTSTAMP:20260421T103558Z
CREATED:20180520T150439Z
DTSTART;TZID=Europe/Helsinki:20180530T090000
SUMMARY:Opet/henkilökunta ja kutostet jalismatsi
DESCRIPTION:
URL;VALUE=URI:https://peda.net/aanekoski/perusopetus/Suolahden-yhtenaiskoul
 u/lks/pankkiluokat/2019/5d-eeva/kalenteri2/ojkj
SEQUENCE:0
END:VEVENT
BEGIN:VEVENT
UID:bed08b24-5c3e-11e8-a839-86f3624c9a50@peda.net
DTSTAMP:20260421T103558Z
CREATED:20180520T150159Z
DTSTART;TZID=Europe/Helsinki:20180524T083000
SUMMARY:Kaikki pelaa-jalisturnaus
DESCRIPTION:
URL;VALUE=URI:https://peda.net/aanekoski/perusopetus/Suolahden-yhtenaiskoul
 u/lks/pankkiluokat/2019/5d-eeva/kalenteri2/kp
SEQUENCE:0
END:VEVENT
BEGIN:VEVENT
UID:93e76234-5c3e-11e8-a2f4-86f3624c9a50@peda.net
DTSTAMP:20260421T103558Z
CREATED:20180520T150047Z
DTSTART;VALUE=DATE:20180523
SUMMARY:MA-koe \; Murtoluvut
DESCRIPTION:
URL;VALUE=URI:https://peda.net/aanekoski/perusopetus/Suolahden-yhtenaiskoul
 u/lks/pankkiluokat/2019/5d-eeva/kalenteri2/ma-koe-murtoluvut3
SEQUENCE:0
END:VEVENT
BEGIN:VEVENT
UID:efa26f48-5c3d-11e8-8dab-86f3624c9a50@peda.net
DTSTAMP:20260421T103558Z
CREATED:20180520T145611Z
DTSTART;TZID=Europe/Helsinki:20180522T093000
DTEND;TZID=Europe/Helsinki:20180522T100000
SUMMARY:Ysien juhlatassit Telakalla
DESCRIPTION:
URL;VALUE=URI:https://peda.net/aanekoski/perusopetus/Suolahden-yhtenaiskoul
 u/lks/pankkiluokat/2019/5d-eeva/kalenteri2/yjt
SEQUENCE:0
END:VEVENT
BEGIN:VEVENT
UID:84030684-550e-11e8-863d-86f3624c9a50@peda.net
DTSTAMP:20260421T103558Z
CREATED:20180511T112906Z
DTSTART;VALUE=DATE:20180602
SUMMARY:Kevätjuhla Asemakadun koulun salissa. Tilaisuus alkaa klo 8.15
DESCRIPTION:
URL;VALUE=URI:https://peda.net/aanekoski/perusopetus/Suolahden-yhtenaiskoul
 u/lks/pankkiluokat/2019/5d-eeva/kalenteri2/kakstak8
SEQUENCE:0
END:VEVENT
BEGIN:VEVENT
UID:5c196bc2-550e-11e8-99fa-86f3624c9a50@peda.net
DTSTAMP:20260421T103558Z
CREATED:20180511T112759Z
DTSTART;VALUE=DATE:20180531
SUMMARY:Kenraaliharkat Asemakadun koulun juhlasalissa klo 9
DESCRIPTION:
URL;VALUE=URI:https://peda.net/aanekoski/perusopetus/Suolahden-yhtenaiskoul
 u/lks/pankkiluokat/2019/5d-eeva/kalenteri2/kakjk9
SEQUENCE:0
END:VEVENT
BEGIN:VEVENT
UID:09d30cbc-550c-11e8-9f66-86f3624c9a50@peda.net
DTSTAMP:20260421T103558Z
CREATED:20180511T111122Z
DTSTART;TZID=Europe/Helsinki:20180515T173000
SUMMARY:Kutosten ilta huoltajineen Telakalla
DESCRIPTION:
URL;VALUE=URI:https://peda.net/aanekoski/perusopetus/Suolahden-yhtenaiskoul
 u/lks/pankkiluokat/2019/5d-eeva/kalenteri2/kiht
SEQUENCE:0
END:VEVENT
BEGIN:VEVENT
UID:bc6322ea-4dff-11e8-bed3-4631624c9a50@peda.net
DTSTAMP:20260421T103558Z
CREATED:20180502T115540Z
DTSTART;VALUE=DATE:20180508
SUMMARY:Käsityön koe 6A ja 6B-lk
DESCRIPTION:
URL;VALUE=URI:https://peda.net/aanekoski/perusopetus/Suolahden-yhtenaiskoul
 u/lks/pankkiluokat/2019/5d-eeva/kalenteri2/kk6j6
SEQUENCE:0
END:VEVENT
BEGIN:VEVENT
UID:42cb3af8-4dff-11e8-b595-62f3624c9a50@peda.net
DTSTAMP:20260421T103558Z
CREATED:20180502T115216Z
DTSTART;VALUE=DATE:20180503
SUMMARY:Kutosien eli tulevien seiskojen tutustumispäivä  Telakalla
DESCRIPTION:
URL;VALUE=URI:https://peda.net/aanekoski/perusopetus/Suolahden-yhtenaiskoul
 u/lks/pankkiluokat/2019/5d-eeva/kalenteri2/ketstt
SEQUENCE:0
END:VEVENT
BEGIN:VEVENT
UID:1288381a-4dfe-11e8-811d-86f3624c9a50@peda.net
DTSTAMP:20260421T103558Z
CREATED:20180502T114346Z
DTSTART;VALUE=DATE:20180517
SUMMARY:MU-teoriakoe
DESCRIPTION:
URL;VALUE=URI:https://peda.net/aanekoski/perusopetus/Suolahden-yhtenaiskoul
 u/lks/pankkiluokat/2019/5d-eeva/kalenteri2/mu-teoriakoe
SEQUENCE:0
END:VEVENT
BEGIN:VEVENT
UID:fea51c64-4dfd-11e8-b645-86f3624c9a50@peda.net
DTSTAMP:20260421T103558Z
CREATED:20180502T114312Z
DTSTART;VALUE=DATE:20180514
SUMMARY:RU-koe
DESCRIPTION:
URL;VALUE=URI:https://peda.net/aanekoski/perusopetus/Suolahden-yhtenaiskoul
 u/lks/pankkiluokat/2019/5d-eeva/kalenteri2/ru-koe3
SEQUENCE:0
END:VEVENT
BEGIN:VEVENT
UID:edb5f522-4dfd-11e8-bd5c-62f3624c9a50@peda.net
DTSTAMP:20260421T103558Z
CREATED:20180502T114244Z
DTSTART;VALUE=DATE:20180511
SUMMARY:UE-testi: Maailman uskonnot
DESCRIPTION:Lue moniste ja kirjasta s. 285-308. Moniste on mukana kokeessa.
URL;VALUE=URI:https://peda.net/aanekoski/perusopetus/Suolahden-yhtenaiskoul
 u/lks/pankkiluokat/2019/5d-eeva/kalenteri2/umu
SEQUENCE:0
END:VEVENT
BEGIN:VEVENT
UID:5e11941a-3d83-11e8-8263-86f3624c9a50@peda.net
DTSTAMP:20260421T103558Z
CREATED:20180411T122506Z
DTSTART;VALUE=DATE:20180418
SUMMARY:EN-koe kpl 10-12
DESCRIPTION:
URL;VALUE=URI:https://peda.net/aanekoski/perusopetus/Suolahden-yhtenaiskoul
 u/lks/pankkiluokat/2019/5d-eeva/kalenteri2/en-koe-kpl-10-12
SEQUENCE:0
END:VEVENT
BEGIN:VEVENT
UID:35c2f3ca-38b3-11e8-a036-4631624c9a50@peda.net
DTSTAMP:20260421T103558Z
CREATED:20180405T092458Z
DTSTART;TZID=Europe/Helsinki:20180410T130000
SUMMARY:EN-sanis 10-12
DESCRIPTION:
URL;VALUE=URI:https://peda.net/aanekoski/perusopetus/Suolahden-yhtenaiskoul
 u/lks/pankkiluokat/2019/5d-eeva/kalenteri2/en-sanis-10-12
SEQUENCE:0
END:VEVENT
BEGIN:VEVENT
UID:2c8f7726-31ae-11e8-aa36-4631624c9a50@peda.net
DTSTAMP:20260421T103558Z
CREATED:20180327T110117Z
DTSTART;VALUE=DATE:20180409
SUMMARY:YH-koe \, Osaava ammattilainen
DESCRIPTION:
URL;VALUE=URI:https://peda.net/aanekoski/perusopetus/Suolahden-yhtenaiskoul
 u/lks/pankkiluokat/2019/5d-eeva/kalenteri2/yoa
SEQUENCE:0
END:VEVENT
BEGIN:VEVENT
UID:02cf6612-31ae-11e8-bfc6-4631624c9a50@peda.net
DTSTAMP:20260421T103558Z
CREATED:20180327T110007Z
DTSTART;VALUE=DATE:20180406
SUMMARY:MA-koe \, Desimaaliluvut
DESCRIPTION:
URL;VALUE=URI:https://peda.net/aanekoski/perusopetus/Suolahden-yhtenaiskoul
 u/lks/pankkiluokat/2019/5d-eeva/kalenteri2/md
SEQUENCE:0
END:VEVENT
BEGIN:VEVENT
UID:81365500-25f2-11e8-9222-62f3624c9a50@peda.net
DTSTAMP:20260421T103558Z
CREATED:20180312T124011Z
DTSTART;VALUE=DATE:20180320
DTEND;VALUE=DATE:20180321
SUMMARY:AI-koe Sanaluokat ja verbin persoona-ja aikamuodot
DESCRIPTION:
URL;VALUE=URI:https://peda.net/aanekoski/perusopetus/Suolahden-yhtenaiskoul
 u/lks/pankkiluokat/2019/5d-eeva/kalenteri2/asjvpa
SEQUENCE:0
END:VEVENT
BEGIN:VEVENT
UID:0aa92f60-1577-11e8-ba76-62f3624c9a50@peda.net
DTSTAMP:20260421T103558Z
CREATED:20180219T131605Z
DTSTART;VALUE=DATE:20180226
DTEND;VALUE=DATE:20180303
SUMMARY:Talviloma
DESCRIPTION:
URL;VALUE=URI:https://peda.net/aanekoski/perusopetus/Suolahden-yhtenaiskoul
 u/lks/pankkiluokat/2019/5d-eeva/kalenteri2/talviloma
SEQUENCE:0
END:VEVENT
BEGIN:VEVENT
UID:4879b866-1575-11e8-b8f7-4631624c9a50@peda.net
DTSTAMP:20260421T103558Z
CREATED:20180219T130330Z
DTSTART;VALUE=DATE:20180306
DTEND;VALUE=DATE:20180307
SUMMARY:Yhdistetty UE- ja HI-koe Uskonpuhdistus-aiheesta.
DESCRIPTION:UE- ja HI-kirjoista luetaan uskonpuhdistuksen aihealueet\, moni
 stenippu ja tehdään tehtävät. Aineisto saa olla kokeessa mukana.
URL;VALUE=URI:https://peda.net/aanekoski/perusopetus/Suolahden-yhtenaiskoul
 u/lks/pankkiluokat/2019/5d-eeva/kalenteri2/yujhu
SEQUENCE:0
END:VEVENT
BEGIN:VEVENT
UID:f4be22ee-0fe2-11e8-b191-62f3624c9a50@peda.net
DTSTAMP:20260421T103558Z
CREATED:20180212T105327Z
DTSTART;VALUE=DATE:20180213
SUMMARY:EN-sanis kpl 7-9
DESCRIPTION:
URL;VALUE=URI:https://peda.net/aanekoski/perusopetus/Suolahden-yhtenaiskoul
 u/lks/pankkiluokat/2019/5d-eeva/kalenteri2/en-sanis-kpl-7-9
SEQUENCE:0
END:VEVENT
BEGIN:VEVENT
UID:b87bab30-0fe2-11e8-9443-4631624c9a50@peda.net
DTSTAMP:20260421T103558Z
CREATED:20180212T105146Z
DTSTART;VALUE=DATE:20180221
SUMMARY:EN-koe kpl 7-9
DESCRIPTION:
URL;VALUE=URI:https://peda.net/aanekoski/perusopetus/Suolahden-yhtenaiskoul
 u/lks/pankkiluokat/2019/5d-eeva/kalenteri2/en-koe-kpl-7-9
SEQUENCE:0
END:VEVENT
BEGIN:VEVENT
UID:da305fe6-0cbd-11e8-bc4a-86f3624c9a50@peda.net
DTSTAMP:20260421T103558Z
CREATED:20180208T105018Z
DTSTART;VALUE=DATE:20180215
SUMMARY:RU sanakoe
DESCRIPTION:
URL;VALUE=URI:https://peda.net/aanekoski/perusopetus/Suolahden-yhtenaiskoul
 u/lks/pankkiluokat/2019/5d-eeva/kalenteri2/ru-sanakoe
SEQUENCE:0
END:VEVENT
BEGIN:VEVENT
UID:c77c9590-0cbd-11e8-86bb-62f3624c9a50@peda.net
DTSTAMP:20260421T103558Z
CREATED:20180208T104946Z
DTSTART;VALUE=DATE:20180222
SUMMARY:RU-koe
DESCRIPTION:
URL;VALUE=URI:https://peda.net/aanekoski/perusopetus/Suolahden-yhtenaiskoul
 u/lks/pankkiluokat/2019/5d-eeva/kalenteri2/ru-koe2
SEQUENCE:0
END:VEVENT
BEGIN:VEVENT
UID:e90db976-0684-11e8-967d-62f3624c9a50@peda.net
DTSTAMP:20260421T103558Z
CREATED:20180131T124734Z
DTSTART;VALUE=DATE:20180213
SUMMARY:FK-koe\, Ilma
DESCRIPTION:
URL;VALUE=URI:https://peda.net/aanekoski/perusopetus/Suolahden-yhtenaiskoul
 u/lks/pankkiluokat/2019/5d-eeva/kalenteri2/fk-koe-ilma
SEQUENCE:0
END:VEVENT
BEGIN:VEVENT
UID:cd221086-0684-11e8-9d32-86f3624c9a50@peda.net
DTSTAMP:20260421T103558Z
CREATED:20180131T124648Z
DTSTART;VALUE=DATE:20180212
SUMMARY:MA-koe\, Geometria
DESCRIPTION:
URL;VALUE=URI:https://peda.net/aanekoski/perusopetus/Suolahden-yhtenaiskoul
 u/lks/pankkiluokat/2019/5d-eeva/kalenteri2/ma-koe-geometria
SEQUENCE:1
END:VEVENT
BEGIN:VEVENT
UID:2732f8c0-faae-11e7-be50-86f3624c9a50@peda.net
DTSTAMP:20260421T103558Z
CREATED:20180116T111234Z
DTSTART;VALUE=DATE:20180123
SUMMARY:YM-koe /Afrikka/karttakoe
DESCRIPTION:
URL;VALUE=URI:https://peda.net/aanekoski/perusopetus/Suolahden-yhtenaiskoul
 u/lks/pankkiluokat/2019/5d-eeva/kalenteri2/ya
SEQUENCE:0
END:VEVENT
BEGIN:VEVENT
UID:9887dd38-f531-11e7-9fdf-4631624c9a50@peda.net
DTSTAMP:20260421T103558Z
CREATED:20180109T113821Z
DTSTART;VALUE=DATE:20180117
SUMMARY:EN-koe kpl  4-6
DESCRIPTION:
URL;VALUE=URI:https://peda.net/aanekoski/perusopetus/Suolahden-yhtenaiskoul
 u/lks/pankkiluokat/2019/5d-eeva/kalenteri2/en-koe-kpl-4-62
SEQUENCE:0
END:VEVENT
BEGIN:VEVENT
UID:79167e00-f531-11e7-9566-62f3624c9a50@peda.net
DTSTAMP:20260421T103558Z
CREATED:20180109T113729Z
DTSTART;VALUE=DATE:20181217
SUMMARY:EN-koe kpl 4-6
DESCRIPTION:
URL;VALUE=URI:https://peda.net/aanekoski/perusopetus/Suolahden-yhtenaiskoul
 u/lks/pankkiluokat/2019/5d-eeva/kalenteri2/en-koe-kpl-4-6
SEQUENCE:0
END:VEVENT
BEGIN:VEVENT
UID:54b9934e-f531-11e7-9fba-62f3624c9a50@peda.net
DTSTAMP:20260421T103558Z
CREATED:20180109T113628Z
DTSTART;VALUE=DATE:20180110
SUMMARY:EN-sanis kpl 4-6
DESCRIPTION:
URL;VALUE=URI:https://peda.net/aanekoski/perusopetus/Suolahden-yhtenaiskoul
 u/lks/pankkiluokat/2019/5d-eeva/kalenteri2/en-sanis-kpl-4-6
SEQUENCE:0
END:VEVENT
BEGIN:VEVENT
UID:e8a1d6a2-e4b5-11e7-80e3-62f3624c9a50@peda.net
DTSTAMP:20260421T103558Z
CREATED:20171219T121240Z
DTSTART;VALUE=DATE:20171222
DTEND;VALUE=DATE:20171223
SUMMARY:Joululaulajaiset Asemakadun koululla klo 9-10
DESCRIPTION:
URL;VALUE=URI:https://peda.net/aanekoski/perusopetus/Suolahden-yhtenaiskoul
 u/lks/pankkiluokat/2019/5d-eeva/kalenteri2/jakk9
SEQUENCE:0
END:VEVENT
BEGIN:VEVENT
UID:b7213d48-e4b5-11e7-99e8-62f3624c9a50@peda.net
DTSTAMP:20260421T103558Z
CREATED:20171219T121117Z
DTSTART;VALUE=DATE:20171220
DTEND;VALUE=DATE:20171221
SUMMARY:Joulukirkko klo 9.30
DESCRIPTION:
URL;VALUE=URI:https://peda.net/aanekoski/perusopetus/Suolahden-yhtenaiskoul
 u/lks/pankkiluokat/2019/5d-eeva/kalenteri2/jk92
SEQUENCE:0
END:VEVENT
BEGIN:VEVENT
UID:0a90400a-df2f-11e7-acec-4631624c9a50@peda.net
DTSTAMP:20260421T103558Z
CREATED:20171212T112439Z
DTSTART;VALUE=DATE:20171219
DTEND;VALUE=DATE:20171220
SUMMARY:HI-koe
DESCRIPTION:Aihealue: Uuden ajan alku. Oppilas valitsee 1) Löytöretket  t
 ai 2) Renessanssi
URL;VALUE=URI:https://peda.net/aanekoski/perusopetus/Suolahden-yhtenaiskoul
 u/lks/pankkiluokat/2019/5d-eeva/kalenteri2/hi-koe3
SEQUENCE:0
END:VEVENT
BEGIN:VEVENT
UID:ca74d80a-df2e-11e7-924b-86f3624c9a50@peda.net
DTSTAMP:20260421T103558Z
CREATED:20171212T112251Z
DTSTART;VALUE=DATE:20171218
DTEND;VALUE=DATE:20171219
SUMMARY:Mittamisen perusasioiden testi
DESCRIPTION:Kirjasta s. 34-54. 
URL;VALUE=URI:https://peda.net/aanekoski/perusopetus/Suolahden-yhtenaiskoul
 u/lks/pankkiluokat/2019/5d-eeva/kalenteri2/mpt
SEQUENCE:0
END:VEVENT
BEGIN:VEVENT
UID:0257874a-d688-11e7-b001-86f3624c9a50@peda.net
DTSTAMP:20260421T103558Z
CREATED:20171201T110850Z
DTSTART;VALUE=DATE:20171206
DTEND;VALUE=DATE:20171207
SUMMARY:Itsenäisyyspäivä
DESCRIPTION:
URL;VALUE=URI:https://peda.net/aanekoski/perusopetus/Suolahden-yhtenaiskoul
 u/lks/pankkiluokat/2019/5d-eeva/kalenteri2/itsen%C3%A4isyysp%C3%A4iv%C3%A4
SEQUENCE:0
END:VEVENT
BEGIN:VEVENT
UID:d9af5c64-d687-11e7-8f04-62f3624c9a50@peda.net
DTSTAMP:20260421T103558Z
CREATED:20171201T110741Z
DTSTART;VALUE=DATE:20171205
DTEND;VALUE=DATE:20171206
SUMMARY:Lipunnosto ja itsenäisuuspäivän juhla Asemakadun koululla
DESCRIPTION:
URL;VALUE=URI:https://peda.net/aanekoski/perusopetus/Suolahden-yhtenaiskoul
 u/lks/pankkiluokat/2019/5d-eeva/kalenteri2/ljijak
SEQUENCE:0
END:VEVENT
BEGIN:VEVENT
UID:b302e39c-d687-11e7-a55f-4631624c9a50@peda.net
DTSTAMP:20260421T103558Z
CREATED:20171201T110636Z
DTSTART;VALUE=DATE:20171211
DTEND;VALUE=DATE:20171212
SUMMARY:UE-koe
DESCRIPTION:Aihealue : Alkuseurakunnan elämää
URL;VALUE=URI:https://peda.net/aanekoski/perusopetus/Suolahden-yhtenaiskoul
 u/lks/pankkiluokat/2019/5d-eeva/kalenteri2/ue-koe3
SEQUENCE:0
END:VEVENT
BEGIN:VEVENT
UID:c9be84c4-ceb2-11e7-a7b9-62f3624c9a50@peda.net
DTSTAMP:20260421T103558Z
CREATED:20171121T115454Z
DTSTART;VALUE=DATE:20171130
DTEND;VALUE=DATE:20171201
SUMMARY:AI-koe
DESCRIPTION:Aihealue: Kirjallisuuden lajit (Kauno- ja tietokirjallisuus)
URL;VALUE=URI:https://peda.net/aanekoski/perusopetus/Suolahden-yhtenaiskoul
 u/lks/pankkiluokat/2019/5d-eeva/kalenteri2/ai-koe
SEQUENCE:0
END:VEVENT
BEGIN:VEVENT
UID:d2ef6f34-bf05-11e7-b821-86f3624c9a50@peda.net
DTSTAMP:20260421T103558Z
CREATED:20171101T130859Z
DTSTART;VALUE=DATE:20171108
DTEND;VALUE=DATE:20171109
SUMMARY:Yhteiskuntaopin koe
DESCRIPTION:Aihe: Taitava median käyttäjä
URL;VALUE=URI:https://peda.net/aanekoski/perusopetus/Suolahden-yhtenaiskoul
 u/lks/pankkiluokat/2019/5d-eeva/kalenteri2/yhteiskuntaopin-koe
SEQUENCE:0
END:VEVENT
BEGIN:VEVENT
UID:3cd56d22-13a3-11e7-9307-8b03fbf45fbc@peda.net
DTSTAMP:20260421T103558Z
CREATED:20170328T104227Z
DTSTART;VALUE=DATE:20170307
SUMMARY:AI-koe. Nominit ja partikkelit
DESCRIPTION:
URL;VALUE=URI:https://peda.net/aanekoski/perusopetus/Suolahden-yhtenaiskoul
 u/lks/pankkiluokat/2019/5d-eeva/kalenteri2/anjp
SEQUENCE:0
END:VEVENT
BEGIN:VEVENT
UID:67c0aba0-13a3-11e7-89b1-eaecf9f45fbc@peda.net
DTSTAMP:20260421T103558Z
CREATED:20170328T104339Z
DTSTART;VALUE=DATE:20170407
SUMMARY:AI-koe. Nominit ja partikkelit
DESCRIPTION:
URL;VALUE=URI:https://peda.net/aanekoski/perusopetus/Suolahden-yhtenaiskoul
 u/lks/pankkiluokat/2019/5d-eeva/kalenteri2/anjp2
SEQUENCE:0
END:VEVENT
BEGIN:VEVENT
UID:1bdcac58-107d-11e7-8003-eaecf9f45fbc@peda.net
DTSTAMP:20260421T103558Z
CREATED:20170324T103158Z
DTSTART;VALUE=DATE:20170331
SUMMARY:EN-koe
DESCRIPTION:
URL;VALUE=URI:https://peda.net/aanekoski/perusopetus/Suolahden-yhtenaiskoul
 u/lks/pankkiluokat/2019/5d-eeva/kalenteri2/en-koe2
SEQUENCE:0
END:VEVENT
BEGIN:VEVENT
UID:992a0136-e488-11e6-b152-d102fbf45fbc@peda.net
DTSTAMP:20260421T103558Z
CREATED:20170127T120321Z
DTSTART;VALUE=DATE:20170203
SUMMARY:EN-koe
DESCRIPTION:
URL;VALUE=URI:https://peda.net/aanekoski/perusopetus/Suolahden-yhtenaiskoul
 u/lks/pankkiluokat/2019/5d-eeva/kalenteri2/en-koe
SEQUENCE:0
END:VEVENT
BEGIN:VEVENT
UID:90e00d66-3179-11e7-94ac-8b03fbf45fbc@peda.net
DTSTAMP:20260421T103558Z
CREATED:20170505T095944Z
DTSTART;VALUE=DATE:20170517
SUMMARY:EN-koe\, kpl 13-15
DESCRIPTION:
URL;VALUE=URI:https://peda.net/aanekoski/perusopetus/Suolahden-yhtenaiskoul
 u/lks/pankkiluokat/2019/5d-eeva/kalenteri2/en-koe-kpl-13-15
SEQUENCE:0
END:VEVENT
BEGIN:VEVENT
UID:4f56bde0-b8a6-11e7-a5ec-4631624c9a50@peda.net
DTSTAMP:20260421T103558Z
CREATED:20171024T103009Z
DTSTART;VALUE=DATE:20171031
SUMMARY:EN-koe kpl 1-3
DESCRIPTION:
URL;VALUE=URI:https://peda.net/aanekoski/perusopetus/Suolahden-yhtenaiskoul
 u/lks/pankkiluokat/2019/5d-eeva/kalenteri2/en-koe-kpl-1-3
SEQUENCE:0
END:VEVENT
BEGIN:VEVENT
UID:767dc774-3179-11e7-8e87-d102fbf45fbc@peda.net
DTSTAMP:20260421T103558Z
CREATED:20170505T095900Z
DTSTART;VALUE=DATE:20170510
SUMMARY:EN-sanakoe kpl 13-15
DESCRIPTION:
URL;VALUE=URI:https://peda.net/aanekoski/perusopetus/Suolahden-yhtenaiskoul
 u/lks/pankkiluokat/2019/5d-eeva/kalenteri2/ek1
SEQUENCE:0
END:VEVENT
BEGIN:VEVENT
UID:80b71aa8-2678-11e7-a0e0-4d04fbf45fbc@peda.net
DTSTAMP:20260421T103558Z
CREATED:20170421T095425Z
DTSTART;VALUE=DATE:20170428
SUMMARY:FK-koe
DESCRIPTION:
URL;VALUE=URI:https://peda.net/aanekoski/perusopetus/Suolahden-yhtenaiskoul
 u/lks/pankkiluokat/2019/5d-eeva/kalenteri2/fk-koe
SEQUENCE:0
END:VEVENT
BEGIN:VEVENT
UID:1fafc704-d660-11e6-a394-d102fbf45fbc@peda.net
DTSTAMP:20260421T103558Z
CREATED:20170109T113821Z
DTSTART;VALUE=DATE:20170116
SUMMARY:Fysiikka/kemian koe
DESCRIPTION:
URL;VALUE=URI:https://peda.net/aanekoski/perusopetus/Suolahden-yhtenaiskoul
 u/lks/pankkiluokat/2019/5d-eeva/kalenteri2/fysiikka-kemian-koe
SEQUENCE:0
END:VEVENT
BEGIN:VEVENT
UID:335e65cc-e3c5-11e6-9537-8b03fbf45fbc@peda.net
DTSTAMP:20260421T103558Z
CREATED:20170126T124439Z
DTSTART;VALUE=DATE:20170206
SUMMARY:HI-koe
DESCRIPTION:
URL;VALUE=URI:https://peda.net/aanekoski/perusopetus/Suolahden-yhtenaiskoul
 u/lks/pankkiluokat/2019/5d-eeva/kalenteri2/hi-koe
SEQUENCE:0
END:VEVENT
BEGIN:VEVENT
UID:8b1b5616-9d25-11e7-a49c-8b03fbf45fbc@peda.net
DTSTAMP:20260421T103558Z
CREATED:20170919T103023Z
DTSTART;VALUE=DATE:20171005
SUMMARY:HI-koe
DESCRIPTION:
URL;VALUE=URI:https://peda.net/aanekoski/perusopetus/Suolahden-yhtenaiskoul
 u/lks/pankkiluokat/2019/5d-eeva/kalenteri2/hi-koe2
SEQUENCE:0
END:VEVENT
BEGIN:VEVENT
UID:5a3b9db4-c6a5-11e6-8402-8b03fbf45fbc@peda.net
DTSTAMP:20260421T103558Z
CREATED:20161220T111336Z
DTSTART;VALUE=DATE:20161221
SUMMARY:Joulujuhla Asemakadun koululla klo 10.15
DESCRIPTION:
URL;VALUE=URI:https://peda.net/aanekoski/perusopetus/Suolahden-yhtenaiskoul
 u/lks/pankkiluokat/2019/5d-eeva/kalenteri2/jakk1
SEQUENCE:0
END:VEVENT
BEGIN:VEVENT
UID:0e9fcb9e-3c81-11e7-94bb-eaecf9f45fbc@peda.net
DTSTAMP:20260421T103558Z
CREATED:20170519T105105Z
DTSTART;VALUE=DATE:20170524
SUMMARY:Kaikki pelaa-jalisturnaus Asemakadun koulun kentällä
DESCRIPTION:
URL;VALUE=URI:https://peda.net/aanekoski/perusopetus/Suolahden-yhtenaiskoul
 u/lks/pankkiluokat/2019/5d-eeva/kalenteri2/kpakk2
SEQUENCE:0
END:VEVENT
BEGIN:VEVENT
UID:72b81cfe-0328-11e7-b918-8b03fbf45fbc@peda.net
DTSTAMP:20260421T103558Z
CREATED:20170307T112311Z
DTSTART;VALUE=DATE:20170310
SUMMARY:Karttakoe Euroopasta
DESCRIPTION:
URL;VALUE=URI:https://peda.net/aanekoski/perusopetus/Suolahden-yhtenaiskoul
 u/lks/pankkiluokat/2019/5d-eeva/kalenteri2/ke
SEQUENCE:0
END:VEVENT
BEGIN:VEVENT
UID:8fb8a2f8-442b-11e7-843a-8b03fbf45fbc@peda.net
DTSTAMP:20260421T103558Z
CREATED:20170529T045914Z
DTSTART;VALUE=DATE:20170531
SUMMARY:"Keltaisten lappujen-juhla" omassa luokassa
DESCRIPTION:
URL;VALUE=URI:https://peda.net/aanekoski/perusopetus/Suolahden-yhtenaiskoul
 u/lks/pankkiluokat/2019/5d-eeva/kalenteri2/klol
SEQUENCE:0
END:VEVENT
BEGIN:VEVENT
UID:2488046a-c1f4-11e6-a263-eaecf9f45fbc@peda.net
DTSTAMP:20260421T103558Z
CREATED:20161214T115501Z
DTSTART;VALUE=DATE:20161219
SUMMARY:Kenraaliharkat
DESCRIPTION:Asemakadun koululla   klo 9.30
URL;VALUE=URI:https://peda.net/aanekoski/perusopetus/Suolahden-yhtenaiskoul
 u/lks/pankkiluokat/2019/5d-eeva/kalenteri2/kenraaliharkat
SEQUENCE:3
END:VEVENT
BEGIN:VEVENT
UID:eba58dbe-43b4-11e7-9e5f-eaecf9f45fbc@peda.net
DTSTAMP:20260421T103558Z
CREATED:20170528T144958Z
DTSTART;VALUE=DATE:20170603
SUMMARY:Kevätjuhla klo 8.30 juhlasalissa
DESCRIPTION:
URL;VALUE=URI:https://peda.net/aanekoski/perusopetus/Suolahden-yhtenaiskoul
 u/lks/pankkiluokat/2019/5d-eeva/kalenteri2/kk8j
SEQUENCE:0
END:VEVENT
BEGIN:VEVENT
UID:9899db60-0328-11e7-a32d-eaecf9f45fbc@peda.net
DTSTAMP:20260421T103558Z
CREATED:20170307T112415Z
DTSTART;VALUE=DATE:20170315
SUMMARY:Kielioppikoe: Verbit
DESCRIPTION:
URL;VALUE=URI:https://peda.net/aanekoski/perusopetus/Suolahden-yhtenaiskoul
 u/lks/pankkiluokat/2019/5d-eeva/kalenteri2/kv
SEQUENCE:0
END:VEVENT
BEGIN:VEVENT
UID:5e116a22-802c-11e7-8637-d102fbf45fbc@peda.net
DTSTAMP:20260421T103558Z
CREATED:20170813T133610Z
DTSTART;VALUE=DATE:20170918
SUMMARY:Kirjastovieraulu klo 9-10.15
DESCRIPTION:
URL;VALUE=URI:https://peda.net/aanekoski/perusopetus/Suolahden-yhtenaiskoul
 u/lks/pankkiluokat/2019/5d-eeva/kalenteri2/kk9
SEQUENCE:0
END:VEVENT
BEGIN:VEVENT
UID:e2308a32-8ca6-11e7-be57-d102fbf45fbc@peda.net
DTSTAMP:20260421T103558Z
CREATED:20170829T104324Z
DTSTART;VALUE=DATE:20170830
SUMMARY:Liikuntaa Asemakadun koulun ulkoalueilla
DESCRIPTION:
URL;VALUE=URI:https://peda.net/aanekoski/perusopetus/Suolahden-yhtenaiskoul
 u/lks/pankkiluokat/2019/5d-eeva/kalenteri2/laku
SEQUENCE:0
END:VEVENT
BEGIN:VEVENT
UID:2e383ae8-442b-11e7-8982-4d04fbf45fbc@peda.net
DTSTAMP:20260421T103558Z
CREATED:20170529T045630Z
DTSTART;VALUE=DATE:20170602
SUMMARY:Liikuntapäivä Asemakadun koululla klo 9-11
DESCRIPTION:
URL;VALUE=URI:https://peda.net/aanekoski/perusopetus/Suolahden-yhtenaiskoul
 u/lks/pankkiluokat/2019/5d-eeva/kalenteri2/lakk9
SEQUENCE:0
END:VEVENT
BEGIN:VEVENT
UID:0cb39a14-e942-11e6-b217-d102fbf45fbc@peda.net
DTSTAMP:20260421T103558Z
CREATED:20170202T122057Z
DTSTART;VALUE=DATE:20170215
SUMMARY:Luistelua jäähallissa klo 11-13
DESCRIPTION:
URL;VALUE=URI:https://peda.net/aanekoski/perusopetus/Suolahden-yhtenaiskoul
 u/lks/pankkiluokat/2019/5d-eeva/kalenteri2/ljk12
SEQUENCE:0
END:VEVENT
BEGIN:VEVENT
UID:f26c764e-e941-11e6-b2e1-4d04fbf45fbc@peda.net
DTSTAMP:20260421T103558Z
CREATED:20170202T122013Z
DTSTART;VALUE=DATE:20170208
SUMMARY:Luistelua jäähallissa klo 11-13
DESCRIPTION:
URL;VALUE=URI:https://peda.net/aanekoski/perusopetus/Suolahden-yhtenaiskoul
 u/lks/pankkiluokat/2019/5d-eeva/kalenteri2/ljk1
SEQUENCE:0
END:VEVENT
BEGIN:VEVENT
UID:aae93a68-f1ad-11e6-95f8-eaecf9f45fbc@peda.net
DTSTAMP:20260421T103558Z
CREATED:20170213T053128Z
DTSTART;VALUE=DATE:20170222
SUMMARY:MA-koe
DESCRIPTION:Desimaaliluvut yhteen-\, vähennys-\, kerto- ja jakolaskutt.
URL;VALUE=URI:https://peda.net/aanekoski/perusopetus/Suolahden-yhtenaiskoul
 u/lks/pankkiluokat/2019/5d-eeva/kalenteri2/ma-koe
SEQUENCE:0
END:VEVENT
BEGIN:VEVENT
UID:12e0510c-2678-11e7-b50b-4d04fbf45fbc@peda.net
DTSTAMP:20260421T103558Z
CREATED:20170421T095121Z
DTSTART;VALUE=DATE:20170505
SUMMARY:MA-koe\; murtoluvut
DESCRIPTION:
URL;VALUE=URI:https://peda.net/aanekoski/perusopetus/Suolahden-yhtenaiskoul
 u/lks/pankkiluokat/2019/5d-eeva/kalenteri2/ma-koe-murtoluvut
SEQUENCE:0
END:VEVENT
BEGIN:VEVENT
UID:c1bfceac-b7e4-11e7-b4a4-62f3624c9a50@peda.net
DTSTAMP:20260421T103558Z
CREATED:20171023T112438Z
DTSTART;VALUE=DATE:20171101
DTEND;VALUE=DATE:20171102
SUMMARY:MA-koe. Peruslaskutoimitukset
DESCRIPTION:
URL;VALUE=URI:https://peda.net/aanekoski/perusopetus/Suolahden-yhtenaiskoul
 u/lks/pankkiluokat/2019/5d-eeva/kalenteri2/mp
SEQUENCE:0
END:VEVENT
BEGIN:VEVENT
UID:ad66f1c0-3179-11e7-b64a-d102fbf45fbc@peda.net
DTSTAMP:20260421T103558Z
CREATED:20170505T100032Z
DTSTART;VALUE=DATE:20170511
SUMMARY:Nuorisotiloille klo 9-9.45
DESCRIPTION:
URL;VALUE=URI:https://peda.net/aanekoski/perusopetus/Suolahden-yhtenaiskoul
 u/lks/pankkiluokat/2019/5d-eeva/kalenteri2/nk9
SEQUENCE:0
END:VEVENT
BEGIN:VEVENT
UID:cae8e344-9d25-11e7-9e4e-eaecf9f45fbc@peda.net
DTSTAMP:20260421T103558Z
CREATED:20170919T103210Z
DTSTART;VALUE=DATE:20171006
SUMMARY:Perinneleikit klo 8.30 -9.45
DESCRIPTION:
URL;VALUE=URI:https://peda.net/aanekoski/perusopetus/Suolahden-yhtenaiskoul
 u/lks/pankkiluokat/2019/5d-eeva/kalenteri2/pk892
SEQUENCE:0
END:VEVENT
BEGIN:VEVENT
UID:ffddf6b2-eec9-11e6-a0b0-4d04fbf45fbc@peda.net
DTSTAMP:20260421T103558Z
CREATED:20170209T131642Z
DTSTART;VALUE=DATE:20170214
SUMMARY:Rautatieturvallisuustunti
DESCRIPTION:
URL;VALUE=URI:https://peda.net/aanekoski/perusopetus/Suolahden-yhtenaiskoul
 u/lks/pankkiluokat/2019/5d-eeva/kalenteri2/r
SEQUENCE:0
END:VEVENT
BEGIN:VEVENT
UID:290cb820-ba35-11e7-aa97-86f3624c9a50@peda.net
DTSTAMP:20260421T103558Z
CREATED:20171026T100514Z
DTSTART;VALUE=DATE:20171102
DTEND;VALUE=DATE:20171103
SUMMARY:RU-koe
DESCRIPTION:
URL;VALUE=URI:https://peda.net/aanekoski/perusopetus/Suolahden-yhtenaiskoul
 u/lks/pankkiluokat/2019/5d-eeva/kalenteri2/ru-koe
SEQUENCE:0
END:VEVENT
BEGIN:VEVENT
UID:2c6d8296-ae79-11e7-a47e-86f3624c9a50@peda.net
DTSTAMP:20260421T103558Z
CREATED:20171011T114151Z
DTSTART;VALUE=DATE:20171016
DTEND;VALUE=DATE:20171021
SUMMARY:Syysloma
DESCRIPTION:
URL;VALUE=URI:https://peda.net/aanekoski/perusopetus/Suolahden-yhtenaiskoul
 u/lks/pankkiluokat/2019/5d-eeva/kalenteri2/syysloma
SEQUENCE:0
END:VEVENT
BEGIN:VEVENT
UID:1079c7b4-b7e5-11e7-8945-62f3624c9a50@peda.net
DTSTAMP:20260421T103558Z
CREATED:20171023T112650Z
DTSTART;VALUE=DATE:20171030
DTEND;VALUE=DATE:20171031
SUMMARY:Tutustuminen jurttatelttaan UE-aihe
DESCRIPTION:Seurakunnan järjestämä tilaisuus.
URL;VALUE=URI:https://peda.net/aanekoski/perusopetus/Suolahden-yhtenaiskoul
 u/lks/pankkiluokat/2019/5d-eeva/kalenteri2/tju
SEQUENCE:0
END:VEVENT
BEGIN:VEVENT
UID:61ef1eac-e872-11e6-9b53-eaecf9f45fbc@peda.net
DTSTAMP:20260421T103558Z
CREATED:20170201T113424Z
DTSTART;VALUE=DATE:20170215
SUMMARY:UE-koe
DESCRIPTION:
URL;VALUE=URI:https://peda.net/aanekoski/perusopetus/Suolahden-yhtenaiskoul
 u/lks/pankkiluokat/2019/5d-eeva/kalenteri2/ue-koe2
SEQUENCE:0
END:VEVENT
BEGIN:VEVENT
UID:2cbda4d0-2678-11e7-89db-eaecf9f45fbc@peda.net
DTSTAMP:20260421T103558Z
CREATED:20170421T095204Z
DTSTART;VALUE=DATE:20170508
SUMMARY:UE-koe\; Pääsiäisen tapahtumat
DESCRIPTION:
URL;VALUE=URI:https://peda.net/aanekoski/perusopetus/Suolahden-yhtenaiskoul
 u/lks/pankkiluokat/2019/5d-eeva/kalenteri2/upt
SEQUENCE:0
END:VEVENT
BEGIN:VEVENT
UID:c5f04ff0-43b4-11e7-a97d-eaecf9f45fbc@peda.net
DTSTAMP:20260421T103558Z
CREATED:20170528T144855Z
DTSTART;VALUE=DATE:20170529
SUMMARY:Uinti
DESCRIPTION:
URL;VALUE=URI:https://peda.net/aanekoski/perusopetus/Suolahden-yhtenaiskoul
 u/lks/pankkiluokat/2019/5d-eeva/kalenteri2/uinti
SEQUENCE:0
END:VEVENT
BEGIN:VEVENT
UID:d9107006-947c-11e7-adff-8b03fbf45fbc@peda.net
DTSTAMP:20260421T103558Z
CREATED:20170908T100239Z
DTSTART;VALUE=DATE:20170912
SUMMARY:Unicef-kävely klo 10-10.30
DESCRIPTION:
URL;VALUE=URI:https://peda.net/aanekoski/perusopetus/Suolahden-yhtenaiskoul
 u/lks/pankkiluokat/2019/5d-eeva/kalenteri2/uk12
SEQUENCE:0
END:VEVENT
BEGIN:VEVENT
UID:497d0998-29a8-11e7-80e9-4d04fbf45fbc@peda.net
DTSTAMP:20260421T103558Z
CREATED:20170425T111402Z
DTSTART;VALUE=DATE:20170515
SUMMARY:Yhteiskuntaoppi-koe
DESCRIPTION:Lue vihkoasiat: Aihe yhteiskunta\, yhteisöt\, kunta\, eduskunt
 a jne
URL;VALUE=URI:https://peda.net/aanekoski/perusopetus/Suolahden-yhtenaiskoul
 u/lks/pankkiluokat/2019/5d-eeva/kalenteri2/yhteiskuntaoppi-koe
SEQUENCE:0
END:VEVENT
BEGIN:VEVENT
UID:71bb694a-9d25-11e7-84a9-eaecf9f45fbc@peda.net
DTSTAMP:20260421T103558Z
CREATED:20170919T102940Z
DTSTART;VALUE=DATE:20170928
SUMMARY:YM-koe
DESCRIPTION:
URL;VALUE=URI:https://peda.net/aanekoski/perusopetus/Suolahden-yhtenaiskoul
 u/lks/pankkiluokat/2019/5d-eeva/kalenteri2/ym-koe
SEQUENCE:0
END:VEVENT
END:VCALENDAR
