BEGIN:VCALENDAR
VERSION:2.0
PRODID:-//Peda.net/Peda.net Calendar Module//
CALSCALE:GREGORIAN
X-WR-CALNAME:Tutorope Eräjärvellä
X-WR-CALDESC:https://peda.net/id/65645e8c873
X-WR-RELCALID:65645e8c-8735-11e7-8922-eaecf9f45fbc@peda.net
X-WR-TIMEZONE:UTC
BEGIN:VEVENT
UID:c0c2be1c-c066-11e7-8ce5-86f3624c9a50@peda.net
DTSTAMP:20260425T195244Z
CREATED:20171103T071521Z
DTSTART;TZID=Europe/Helsinki:20171102T083000
SUMMARY:Eräjärvi
DESCRIPTION:
URL;VALUE=URI:https://peda.net/orivesi/hankkeet/pt/tutoropettajatoiminta-or
 iveden-perusopet/er%C3%A4j%C3%A4rven-koulu/te/er%C3%A4j%C3%A4rvi2
SEQUENCE:0
END:VEVENT
BEGIN:VEVENT
UID:89ccdbb0-87f2-11e7-accf-eaecf9f45fbc@peda.net
DTSTAMP:20260425T195244Z
CREATED:20170823T110222Z
DTSTART;VALUE=DATE:20170927
SUMMARY:Eräjärvi
DESCRIPTION:Office365 opet ja 5-6 -luokat. \n* Oma tila\n* kuvat\, videot\n
 * tallentaminen
URL;VALUE=URI:https://peda.net/orivesi/hankkeet/pt/tutoropettajatoiminta-or
 iveden-perusopet/er%C3%A4j%C3%A4rven-koulu/te/er%C3%A4j%C3%A4rvi
SEQUENCE:1
END:VEVENT
BEGIN:VEVENT
UID:982cfbb2-8735-11e7-86c7-d102fbf45fbc@peda.net
DTSTAMP:20260425T195244Z
CREATED:20170822T122951Z
DTSTART;TZID=Europe/Helsinki:20170823T093000
SUMMARY:Tapaaminen keskiviikkona
DESCRIPTION:Työn aloitus\, koulun omat tavoitteet ja odotukset.
URL;VALUE=URI:https://peda.net/orivesi/hankkeet/pt/tutoropettajatoiminta-or
 iveden-perusopet/er%C3%A4j%C3%A4rven-koulu/te/tk
SEQUENCE:0
END:VEVENT
END:VCALENDAR
