BEGIN:VCALENDAR
VERSION:2.0
PRODID:-//Peda.net/Peda.net Calendar Module//
CALSCALE:GREGORIAN
X-WR-CALNAME:1AB
X-WR-CALDESC:https://peda.net/id/261038c2d2f
X-WR-RELCALID:261038c2-d2f7-11e9-a588-4631624c9a50@peda.net
X-WR-TIMEZONE:UTC
BEGIN:VEVENT
UID:3bfab948-4749-11ea-867d-509a4c62f386@peda.net
DTSTAMP:20260424T201328Z
CREATED:20200204T122405Z
DTSTART;TZID=Europe/Helsinki:20200207T083000
DTEND;TZID=Europe/Helsinki:20200207T120000
SUMMARY:Vellamoon
DESCRIPTION:
URL;VALUE=URI:https://peda.net/kotka/perusopetus/kotkansaaren-koulu/ht/luok
 at/arkisto/1a2/nimet%C3%B6n-2610/vellamoon
SEQUENCE:0
END:VEVENT
BEGIN:VEVENT
UID:f70eb728-d2f7-11e9-8326-4631624c9a50@peda.net
DTSTAMP:20260424T201328Z
CREATED:20190909T115005Z
DTSTART;VALUE=DATE:20190926
SUMMARY:BAD - Be Active school Day
DESCRIPTION:Koulua kaikilla klo 8.15-12.15.
URL;VALUE=URI:https://peda.net/kotka/perusopetus/kotkansaaren-koulu/ht/luok
 at/arkisto/1a2/nimet%C3%B6n-2610/bbasd
SEQUENCE:0
END:VEVENT
BEGIN:VEVENT
UID:837b6aa4-d2f7-11e9-8b51-62f3624c9a50@peda.net
DTSTAMP:20260424T201328Z
CREATED:20190909T114651Z
DTSTART;TZID=Europe/Helsinki:20190917T092000
DTEND;TZID=Europe/Helsinki:20190917T094000
SUMMARY:Valokuvaus
DESCRIPTION:
URL;VALUE=URI:https://peda.net/kotka/perusopetus/kotkansaaren-koulu/ht/luok
 at/arkisto/1a2/nimet%C3%B6n-2610/valokuvaus
SEQUENCE:0
END:VEVENT
END:VCALENDAR
